BEGIN:VCALENDAR
VERSION:2.0
PRODID:-//Belmont Abbey College - ECPv6.15.18//NONSGML v1.0//EN
CALSCALE:GREGORIAN
METHOD:PUBLISH
X-ORIGINAL-URL:https://belmontabbeycollege.edu
X-WR-CALDESC:Events for Belmont Abbey College
REFRESH-INTERVAL;VALUE=DURATION:PT1H
X-Robots-Tag:noindex
X-PUBLISHED-TTL:PT1H
BEGIN:VTIMEZONE
TZID:America/New_York
BEGIN:DAYLIGHT
TZOFFSETFROM:-0500
TZOFFSETTO:-0400
TZNAME:EDT
DTSTART:20250309T070000
END:DAYLIGHT
BEGIN:STANDARD
TZOFFSETFROM:-0400
TZOFFSETTO:-0500
TZNAME:EST
DTSTART:20251102T060000
END:STANDARD
BEGIN:DAYLIGHT
TZOFFSETFROM:-0500
TZOFFSETTO:-0400
TZNAME:EDT
DTSTART:20260308T070000
END:DAYLIGHT
BEGIN:STANDARD
TZOFFSETFROM:-0400
TZOFFSETTO:-0500
TZNAME:EST
DTSTART:20261101T060000
END:STANDARD
BEGIN:DAYLIGHT
TZOFFSETFROM:-0500
TZOFFSETTO:-0400
TZNAME:EDT
DTSTART:20270314T070000
END:DAYLIGHT
BEGIN:STANDARD
TZOFFSETFROM:-0400
TZOFFSETTO:-0500
TZNAME:EST
DTSTART:20271107T060000
END:STANDARD
END:VTIMEZONE
BEGIN:VEVENT
DTSTART;TZID=America/New_York:20260414T100000
DTEND;TZID=America/New_York:20260414T170000
DTSTAMP:20260421T062827
CREATED:20260402T054023Z
LAST-MODIFIED:20260410T202252Z
UID:10032598-1776160800-1776186000@belmontabbeycollege.edu
SUMMARY:Men's Tennis vs Averett
DESCRIPTION:Come show your support for our Crusader’s tennis team!
URL:https://belmontabbeycollege.edu/event/__trashed-4/
LOCATION:Belmont Abbey College Campus\, 100 Belmont-Mt. Holly Road\, Belmont\, NC\, 28012\, United States
CATEGORIES:Academic Calendar,Campus Events,Sports
ATTACH;FMTTYPE=image/png:https://belmontabbeycollege.edu/wp-content/uploads/2023/05/tennis-good-job.png
END:VEVENT
BEGIN:VEVENT
DTSTART;TZID=America/New_York:20260414T170000
DTEND;TZID=America/New_York:20260414T180000
DTSTAMP:20260421T062827
CREATED:20260318T202859Z
LAST-MODIFIED:20260318T202859Z
UID:10032602-1776186000-1776189600@belmontabbeycollege.edu
SUMMARY:Baseball vs Lenoir-Rhyne
DESCRIPTION:Come out and cheer on the Baseball team!
URL:https://belmontabbeycollege.edu/event/baseball-vs-lenoir-rhyne-2/
LOCATION:Abbey Yard
CATEGORIES:Academic Calendar,Campus Events,Sports
ATTACH;FMTTYPE=image/png:https://belmontabbeycollege.edu/wp-content/uploads/2022/05/Abbey-Baseball.png
END:VEVENT
BEGIN:VEVENT
DTSTART;VALUE=DATE:20260415
DTEND;VALUE=DATE:20260416
DTSTAMP:20260421T062827
CREATED:20260318T203135Z
LAST-MODIFIED:20260318T203135Z
UID:10032603-1776211200-1776297599@belmontabbeycollege.edu
SUMMARY:Men's Volleyball vs MVB vs Conference Carolinas Tournament Quarterfinals
DESCRIPTION:Come cheer on your Crusaders in the Wheeler Center!
URL:https://belmontabbeycollege.edu/event/mens-volleyball-vs-mvb-vs-conference-carolinas-tournament-quarterfinals/
LOCATION:Wheeler Center
CATEGORIES:Academic Calendar,Campus Events,Sports
ATTACH;FMTTYPE=image/jpeg:https://belmontabbeycollege.edu/wp-content/uploads/2024/01/volleyball.jpg
END:VEVENT
BEGIN:VEVENT
DTSTART;VALUE=DATE:20260415
DTEND;VALUE=DATE:20260416
DTSTAMP:20260421T062827
CREATED:20250710T144451Z
LAST-MODIFIED:20250710T144452Z
UID:10027495-1776211200-1776297599@belmontabbeycollege.edu
SUMMARY:Fall pre-registration: currently enrolled sophomores
DESCRIPTION:Fall pre-registration: currently enrolled sophomores
URL:https://belmontabbeycollege.edu/event/fall-pre-registration-currently-enrolled-sophomores/
LOCATION:Belmont Abbey College Campus\, 100 Belmont-Mt. Holly Road\, Belmont\, NC\, 28012\, United States
CATEGORIES:Academic Calendar,Admissions Events
ATTACH;FMTTYPE=image/jpeg:https://belmontabbeycollege.edu/wp-content/uploads/2022/01/BAC-Campus.jpg
END:VEVENT
BEGIN:VEVENT
DTSTART;VALUE=DATE:20260416
DTEND;VALUE=DATE:20260417
DTSTAMP:20260421T062827
CREATED:20250710T144611Z
LAST-MODIFIED:20250710T144611Z
UID:10027496-1776297600-1776383999@belmontabbeycollege.edu
SUMMARY:Fall pre-registration: currently enrolled freshmen
DESCRIPTION:Fall pre-registration: currently enrolled freshmen
URL:https://belmontabbeycollege.edu/event/fall-pre-registration-currently-enrolled-freshmen/
LOCATION:Belmont Abbey College Campus\, 100 Belmont-Mt. Holly Road\, Belmont\, NC\, 28012\, United States
CATEGORIES:Academic Calendar,Admissions Events
ATTACH;FMTTYPE=image/jpeg:https://belmontabbeycollege.edu/wp-content/uploads/2021/05/At-Home-on-Campus-b.jpg
END:VEVENT
BEGIN:VEVENT
DTSTART;TZID=America/New_York:20260417T130000
DTEND;TZID=America/New_York:20260417T140000
DTSTAMP:20260421T062827
CREATED:20260318T203509Z
LAST-MODIFIED:20260318T203509Z
UID:10032604-1776430800-1776434400@belmontabbeycollege.edu
SUMMARY:Women's Tennis v. Methodist
DESCRIPTION:Come show your support for the women’s tennis team!
URL:https://belmontabbeycollege.edu/event/womens-tennis-v-methodist/
LOCATION:Belmont Abbey College Campus\, 100 Belmont-Mt. Holly Road\, Belmont\, NC\, 28012\, United States
CATEGORIES:Academic Calendar,Campus Events,Sports
ATTACH;FMTTYPE=image/jpeg:https://belmontabbeycollege.edu/wp-content/uploads/2024/01/womens-tennis.jpg
END:VEVENT
BEGIN:VEVENT
DTSTART;TZID=America/New_York:20260417T130000
DTEND;TZID=America/New_York:20260417T140000
DTSTAMP:20260421T062827
CREATED:20260318T203905Z
LAST-MODIFIED:20260318T203905Z
UID:10032608-1776430800-1776434400@belmontabbeycollege.edu
SUMMARY:Softball vs Emmanuel
DESCRIPTION:Come out and cheer on the Softball team!
URL:https://belmontabbeycollege.edu/event/softball-vs-emmanuel-2/
LOCATION:Abbey Yard
CATEGORIES:Academic Calendar,Campus Events,Sports
ATTACH;FMTTYPE=image/jpeg:https://belmontabbeycollege.edu/wp-content/uploads/2024/04/resize.jpg
END:VEVENT
BEGIN:VEVENT
DTSTART;TZID=America/New_York:20260417T150000
DTEND;TZID=America/New_York:20260417T160000
DTSTAMP:20260421T062827
CREATED:20260318T203558Z
LAST-MODIFIED:20260318T203558Z
UID:10032605-1776438000-1776441600@belmontabbeycollege.edu
SUMMARY:Women's Tennis v. Young Harris
DESCRIPTION:Come show your support for the women’s tennis team!
URL:https://belmontabbeycollege.edu/event/womens-tennis-v-young-harris/
LOCATION:Belmont Abbey College Campus\, 100 Belmont-Mt. Holly Road\, Belmont\, NC\, 28012\, United States
CATEGORIES:Academic Calendar,Campus Events,Sports
ATTACH;FMTTYPE=image/jpeg:https://belmontabbeycollege.edu/wp-content/uploads/2024/01/womens-tennis.jpg
END:VEVENT
BEGIN:VEVENT
DTSTART;TZID=America/New_York:20260417T150000
DTEND;TZID=America/New_York:20260417T160000
DTSTAMP:20260421T062827
CREATED:20260318T203739Z
LAST-MODIFIED:20260318T204136Z
UID:10032606-1776438000-1776441600@belmontabbeycollege.edu
SUMMARY:Men's Tennis vs Young Harris
DESCRIPTION:Come show your support for our Crusader’s tennis team!
URL:https://belmontabbeycollege.edu/event/mens-tennis-vs-young-harris/
LOCATION:Belmont Abbey College Campus\, 100 Belmont-Mt. Holly Road\, Belmont\, NC\, 28012\, United States
CATEGORIES:Academic Calendar,Campus Events,Sports
ATTACH;FMTTYPE=image/png:https://belmontabbeycollege.edu/wp-content/uploads/2023/05/tennis-good-job.png
END:VEVENT
BEGIN:VEVENT
DTSTART;TZID=America/New_York:20260417T150000
DTEND;TZID=America/New_York:20260417T160000
DTSTAMP:20260421T062827
CREATED:20260318T203848Z
LAST-MODIFIED:20260318T203848Z
UID:10032607-1776438000-1776441600@belmontabbeycollege.edu
SUMMARY:Softball vs Emmanuel
DESCRIPTION:Come out and cheer on the Softball team!
URL:https://belmontabbeycollege.edu/event/softball-vs-emmanuel/
LOCATION:Abbey Yard
CATEGORIES:Academic Calendar,Campus Events,Sports
ATTACH;FMTTYPE=image/jpeg:https://belmontabbeycollege.edu/wp-content/uploads/2024/04/resize.jpg
END:VEVENT
BEGIN:VEVENT
DTSTART;VALUE=DATE:20260418
DTEND;VALUE=DATE:20260419
DTSTAMP:20260421T062827
CREATED:20260318T204419Z
LAST-MODIFIED:20260318T204419Z
UID:10032609-1776470400-1776556799@belmontabbeycollege.edu
SUMMARY:Men's Volleyball vs MVB vs Conference Carolinas Tournament Semifinals
DESCRIPTION:Come cheer on your Crusaders in the Wheeler Center!
URL:https://belmontabbeycollege.edu/event/mens-volleyball-vs-mvb-vs-conference-carolinas-tournament-semifinals/
LOCATION:Wheeler Center
CATEGORIES:Academic Calendar,Campus Events,Sports
ATTACH;FMTTYPE=image/jpeg:https://belmontabbeycollege.edu/wp-content/uploads/2024/01/volleyball.jpg
END:VEVENT
BEGIN:VEVENT
DTSTART;TZID=America/New_York:20260418T120000
DTEND;TZID=America/New_York:20260418T130000
DTSTAMP:20260421T062827
CREATED:20260318T204701Z
LAST-MODIFIED:20260318T204701Z
UID:10032610-1776513600-1776517200@belmontabbeycollege.edu
SUMMARY:Baseball vs Young Harris
DESCRIPTION:Come out and cheer on the Baseball team!
URL:https://belmontabbeycollege.edu/event/baseball-vs-young-harris/
LOCATION:Abbey Yard
CATEGORIES:Academic Calendar,Campus Events,Sports
ATTACH;FMTTYPE=image/png:https://belmontabbeycollege.edu/wp-content/uploads/2022/05/Abbey-Baseball.png
END:VEVENT
BEGIN:VEVENT
DTSTART;TZID=America/New_York:20260418T150000
DTEND;TZID=America/New_York:20260418T160000
DTSTAMP:20260421T062827
CREATED:20260318T204745Z
LAST-MODIFIED:20260318T204745Z
UID:10032611-1776524400-1776528000@belmontabbeycollege.edu
SUMMARY:Baseball vs Young Harris
DESCRIPTION:Come out and cheer on the Baseball team!
URL:https://belmontabbeycollege.edu/event/baseball-vs-young-harris-2/
LOCATION:Abbey Yard
CATEGORIES:Academic Calendar,Campus Events,Sports
ATTACH;FMTTYPE=image/png:https://belmontabbeycollege.edu/wp-content/uploads/2022/05/Abbey-Baseball.png
END:VEVENT
BEGIN:VEVENT
DTSTART;VALUE=DATE:20260419
DTEND;VALUE=DATE:20260420
DTSTAMP:20260421T062827
CREATED:20260318T204944Z
LAST-MODIFIED:20260318T204944Z
UID:10032612-1776556800-1776643199@belmontabbeycollege.edu
SUMMARY:Men's Volleyball vs MVB vs Conference Carolinas Tournament Final
DESCRIPTION:Come cheer on your Crusaders in the Wheeler Center!
URL:https://belmontabbeycollege.edu/event/mens-volleyball-vs-mvb-vs-conference-carolinas-tournament-final/
LOCATION:Wheeler Center
CATEGORIES:Academic Calendar,Campus Events,Sports
ATTACH;FMTTYPE=image/jpeg:https://belmontabbeycollege.edu/wp-content/uploads/2024/01/volleyball.jpg
END:VEVENT
BEGIN:VEVENT
DTSTART;VALUE=DATE:20260421
DTEND;VALUE=DATE:20260422
DTSTAMP:20260421T062827
CREATED:20260318T205205Z
LAST-MODIFIED:20260318T205205Z
UID:10032613-1776729600-1776815999@belmontabbeycollege.edu
SUMMARY:Men's Lacrosse vs Conference Carolinas Tournament Quarterfinals
DESCRIPTION:Come out and cheer on the Lacrosse team!
URL:https://belmontabbeycollege.edu/event/mens-lacrosse-vs-conference-carolinas-tournament-quarterfinals/
LOCATION:Alumni Field
CATEGORIES:Academic Calendar,Campus Events,Sports
ATTACH;FMTTYPE=image/jpeg:https://belmontabbeycollege.edu/wp-content/uploads/2018/05/170422_Abbey_Lacrosse_Edit_-1-4-web-1920x900-1.jpg
END:VEVENT
BEGIN:VEVENT
DTSTART;VALUE=DATE:20260504
DTEND;VALUE=DATE:20260505
DTSTAMP:20260421T062827
CREATED:20250710T144744Z
LAST-MODIFIED:20250710T144744Z
UID:10027497-1777852800-1777939199@belmontabbeycollege.edu
SUMMARY:Last day of traditional classes; Last day for 8 week II MW classes
DESCRIPTION:Last day of traditional classes; Last day for 8 week II MW classes
URL:https://belmontabbeycollege.edu/event/last-day-of-traditional-classes-last-day-for-8-week-ii-mw-classes/
LOCATION:Belmont Abbey College Campus\, 100 Belmont-Mt. Holly Road\, Belmont\, NC\, 28012\, United States
CATEGORIES:Academic Calendar,Education
ATTACH;FMTTYPE=image/png:https://belmontabbeycollege.edu/wp-content/uploads/2024/11/Retention.png
END:VEVENT
BEGIN:VEVENT
DTSTART;VALUE=DATE:20260505
DTEND;VALUE=DATE:20260506
DTSTAMP:20260421T062827
CREATED:20250710T145036Z
LAST-MODIFIED:20250710T145036Z
UID:10027498-1777939200-1778025599@belmontabbeycollege.edu
SUMMARY:Reading Day for traditional classes; Last day for 8 week II TR classes
DESCRIPTION:Reading Day for traditional classes; Last day for 8 week II TR classes
URL:https://belmontabbeycollege.edu/event/reading-day-for-traditional-classes-last-day-for-8-week-ii-tr-classes/
LOCATION:Belmont Abbey College Campus\, 100 Belmont-Mt. Holly Road\, Belmont\, NC\, 28012\, United States
CATEGORIES:Academic Calendar,Education
ATTACH;FMTTYPE=image/jpeg:https://belmontabbeycollege.edu/wp-content/uploads/2025/05/Credit-Mike-Gibson.jpg
END:VEVENT
BEGIN:VEVENT
DTSTART;VALUE=DATE:20260506
DTEND;VALUE=DATE:20260507
DTSTAMP:20260421T062827
CREATED:20250710T145152Z
LAST-MODIFIED:20250710T145152Z
UID:10027499-1778025600-1778111999@belmontabbeycollege.edu
SUMMARY:Final exams - traditional classes; Final exam: 8 week II MW 6:00 classes
DESCRIPTION:Final exams – traditional classes; Final exam: 8 week II MW 6:00 classes
URL:https://belmontabbeycollege.edu/event/final-exams-traditional-classes-final-exam-8-week-ii-mw-600-classes/
LOCATION:Belmont Abbey College Campus\, 100 Belmont-Mt. Holly Road\, Belmont\, NC\, 28012\, United States
CATEGORIES:Academic Calendar,Education
ATTACH;FMTTYPE=image/png:https://belmontabbeycollege.edu/wp-content/uploads/2022/09/fallStudents1.png
END:VEVENT
BEGIN:VEVENT
DTSTART;VALUE=DATE:20260507
DTEND;VALUE=DATE:20260508
DTSTAMP:20260421T062827
CREATED:20250710T145318Z
LAST-MODIFIED:20250710T145318Z
UID:10027500-1778112000-1778198399@belmontabbeycollege.edu
SUMMARY:Final exams - traditional classes; Final Exam:  8 week II TR 6:00 classes
DESCRIPTION:Final exams – traditional classes; Final Exam: 8 week II TR 6:00 classes
URL:https://belmontabbeycollege.edu/event/final-exams-traditional-classes-final-exam-8-week-ii-tr-600-classes/
LOCATION:Belmont Abbey College Campus\, 100 Belmont-Mt. Holly Road\, Belmont\, NC\, 28012\, United States
CATEGORIES:Academic Calendar,Education
ATTACH;FMTTYPE=image/jpeg:https://belmontabbeycollege.edu/wp-content/uploads/2021/11/Students-on-Abbey-Lane.jpg
END:VEVENT
BEGIN:VEVENT
DTSTART;VALUE=DATE:20260508
DTEND;VALUE=DATE:20260509
DTSTAMP:20260421T062827
CREATED:20250710T145515Z
LAST-MODIFIED:20250710T145515Z
UID:10027501-1778198400-1778284799@belmontabbeycollege.edu
SUMMARY:Final exams - traditional classes
DESCRIPTION:Final exams – traditional classes
URL:https://belmontabbeycollege.edu/event/final-exams-traditional-classes/
LOCATION:Belmont Abbey College Campus\, 100 Belmont-Mt. Holly Road\, Belmont\, NC\, 28012\, United States
CATEGORIES:Academic Calendar,Education
ATTACH;FMTTYPE=image/jpeg:https://belmontabbeycollege.edu/wp-content/uploads/2023/02/Abbot1m1FnomaskOut-scaled.jpg
END:VEVENT
BEGIN:VEVENT
DTSTART;VALUE=DATE:20260511
DTEND;VALUE=DATE:20260512
DTSTAMP:20260421T062827
CREATED:20250710T145723Z
LAST-MODIFIED:20250710T145723Z
UID:10027502-1778457600-1778543999@belmontabbeycollege.edu
SUMMARY:Final exams - traditional classes; 8 week II MW 8:15 classes note:  exam begins at 6:00 p.m.
DESCRIPTION:Final exams – traditional classes; 8 week II MW 8:15 classes note: exam begins at 6:00 p.m.
URL:https://belmontabbeycollege.edu/event/final-exams-traditional-classes-8-week-ii-mw-815-classes-note-exam-begins-at-600-p-m/
LOCATION:Belmont Abbey College Campus\, 100 Belmont-Mt. Holly Road\, Belmont\, NC\, 28012\, United States
CATEGORIES:Academic Calendar,Education
ATTACH;FMTTYPE=image/png:https://belmontabbeycollege.edu/wp-content/uploads/2022/03/StudentsFacGraceM.png
END:VEVENT
BEGIN:VEVENT
DTSTART;VALUE=DATE:20260512
DTEND;VALUE=DATE:20260513
DTSTAMP:20260421T062827
CREATED:20250710T145819Z
LAST-MODIFIED:20250710T145819Z
UID:10027503-1778544000-1778630399@belmontabbeycollege.edu
SUMMARY:Final exams - traditional classes; Final exam: 8 week II TR 8:15 classes  note:  exam begins at 6:00 p.m.
DESCRIPTION:Final exams – traditional classes; Final exam: 8 week II TR 8:15 classes note: exam begins at 6:00 p.m.
URL:https://belmontabbeycollege.edu/event/final-exams-traditional-classes-final-exam-8-week-ii-tr-815-classes-note-exam-begins-at-600-p-m/
LOCATION:Belmont Abbey College Campus\, 100 Belmont-Mt. Holly Road\, Belmont\, NC\, 28012\, United States
CATEGORIES:Academic Calendar
ATTACH;FMTTYPE=image/jpeg:https://belmontabbeycollege.edu/wp-content/uploads/2021/11/Students-on-Abbey-Lane.jpg
END:VEVENT
BEGIN:VEVENT
DTSTART;TZID=America/New_York:20260513T000000
DTEND;TZID=America/New_York:20260513T120000
DTSTAMP:20260421T062827
CREATED:20250710T150035Z
LAST-MODIFIED:20250710T150035Z
UID:10027504-1778630400-1778673600@belmontabbeycollege.edu
SUMMARY:Senior grades due in the Registrar's Office by 12:00 noon; Residence Halls close  at 12:00 noon for all but  graduating seniors
DESCRIPTION:Senior grades due in the Registrar’s Office by 12:00 noon; Residence Halls close at 12:00 noon for all but graduating seniors
URL:https://belmontabbeycollege.edu/event/senior-grades-due-in-the-registrars-office-by-1200-noon-residence-halls-close-at-1200-noon-for-all-but-graduating-seniors/
LOCATION:Belmont Abbey College Campus\, 100 Belmont-Mt. Holly Road\, Belmont\, NC\, 28012\, United States
CATEGORIES:Academic Calendar,Admissions Events,Res Life
ATTACH;FMTTYPE=image/png:https://belmontabbeycollege.edu/wp-content/uploads/2023/07/NewHallEdit4.png
END:VEVENT
BEGIN:VEVENT
DTSTART;TZID=America/New_York:20260516T090000
DTEND;TZID=America/New_York:20260516T233000
DTSTAMP:20260421T062827
CREATED:20250710T150214Z
LAST-MODIFIED:20250710T150214Z
UID:10027505-1778922000-1778974200@belmontabbeycollege.edu
SUMMARY:Baccalaureate Mass (9:00 am) and Commencement (11:00 am)
DESCRIPTION:Baccalaureate Mass (9:00 am) and Commencement (11:00 am)
URL:https://belmontabbeycollege.edu/event/baccalaureate-mass-900-am-and-commencement-1100-am/
LOCATION:Belmont Abbey College Campus\, 100 Belmont-Mt. Holly Road\, Belmont\, NC\, 28012\, United States
CATEGORIES:Academic Calendar,Campus Events,Monastery
ATTACH;FMTTYPE=image/png:https://belmontabbeycollege.edu/wp-content/uploads/2024/02/MTweb2Monastery.png
END:VEVENT
BEGIN:VEVENT
DTSTART;VALUE=DATE:20260517
DTEND;VALUE=DATE:20260518
DTSTAMP:20260421T062827
CREATED:20250710T150449Z
LAST-MODIFIED:20250710T150449Z
UID:10027506-1778976000-1779062399@belmontabbeycollege.edu
SUMMARY:Residence Halls Close for Graduating Seniors
DESCRIPTION:Residence Halls Close for Graduating Seniors
URL:https://belmontabbeycollege.edu/event/residence-halls-close-for-graduating-seniors/
LOCATION:Belmont Abbey College Campus\, 100 Belmont-Mt. Holly Road\, Belmont\, NC\, 28012\, United States
CATEGORIES:Academic Calendar,Res Life
ATTACH;FMTTYPE=image/png:https://belmontabbeycollege.edu/wp-content/uploads/2023/07/NewHallEdit4.png
END:VEVENT
BEGIN:VEVENT
DTSTART;TZID=America/New_York:20260518T000000
DTEND;TZID=America/New_York:20260518T120000
DTSTAMP:20260421T062827
CREATED:20250710T150755Z
LAST-MODIFIED:20250710T150755Z
UID:10027507-1779062400-1779105600@belmontabbeycollege.edu
SUMMARY:All final grades due in the Registrar's Office by 12:00 noon
DESCRIPTION:All final grades due in the Registrar’s Office by 12:00 noon
URL:https://belmontabbeycollege.edu/event/all-final-grades-due-in-the-registrars-office-by-1200-noon/
LOCATION:Belmont Abbey College Campus\, 100 Belmont-Mt. Holly Road\, Belmont\, NC\, 28012\, United States
CATEGORIES:Academic Calendar,Admissions Events
ATTACH;FMTTYPE=image/png:https://belmontabbeycollege.edu/wp-content/uploads/2021/08/PREVIEW-400x400-1.png
END:VEVENT
BEGIN:VEVENT
DTSTART;VALUE=DATE:20260525
DTEND;VALUE=DATE:20260526
DTSTAMP:20260421T062827
CREATED:20250710T150938Z
LAST-MODIFIED:20250710T150938Z
UID:10027508-1779667200-1779753599@belmontabbeycollege.edu
SUMMARY:Memorial Day - College Closed
DESCRIPTION:Memorial Day – College Closed
URL:https://belmontabbeycollege.edu/event/memorial-day-college-closed/
LOCATION:Belmont Abbey College Campus\, 100 Belmont-Mt. Holly Road\, Belmont\, NC\, 28012\, United States
CATEGORIES:Academic Calendar,Holidays
ATTACH;FMTTYPE=image/jpeg:https://belmontabbeycollege.edu/wp-content/uploads/2022/01/BAC-Campus.jpg
END:VEVENT
END:VCALENDAR