BEGIN:VCALENDAR
VERSION:2.0
PRODID:-//Belmont Abbey College - ECPv6.15.18//NONSGML v1.0//EN
CALSCALE:GREGORIAN
METHOD:PUBLISH
X-ORIGINAL-URL:https://belmontabbeycollege.edu
X-WR-CALDESC:Events for Belmont Abbey College
REFRESH-INTERVAL;VALUE=DURATION:PT1H
X-Robots-Tag:noindex
X-PUBLISHED-TTL:PT1H
BEGIN:VTIMEZONE
TZID:America/New_York
BEGIN:DAYLIGHT
TZOFFSETFROM:-0500
TZOFFSETTO:-0400
TZNAME:EDT
DTSTART:20250309T070000
END:DAYLIGHT
BEGIN:STANDARD
TZOFFSETFROM:-0400
TZOFFSETTO:-0500
TZNAME:EST
DTSTART:20251102T060000
END:STANDARD
BEGIN:DAYLIGHT
TZOFFSETFROM:-0500
TZOFFSETTO:-0400
TZNAME:EDT
DTSTART:20260308T070000
END:DAYLIGHT
BEGIN:STANDARD
TZOFFSETFROM:-0400
TZOFFSETTO:-0500
TZNAME:EST
DTSTART:20261101T060000
END:STANDARD
BEGIN:DAYLIGHT
TZOFFSETFROM:-0500
TZOFFSETTO:-0400
TZNAME:EDT
DTSTART:20270314T070000
END:DAYLIGHT
BEGIN:STANDARD
TZOFFSETFROM:-0400
TZOFFSETTO:-0500
TZNAME:EST
DTSTART:20271107T060000
END:STANDARD
END:VTIMEZONE
BEGIN:VEVENT
DTSTART;VALUE=DATE:20260418
DTEND;VALUE=DATE:20260419
DTSTAMP:20260423T110918
CREATED:20260205T153912Z
LAST-MODIFIED:20260205T153912Z
UID:10032378-1776470400-1776556799@belmontabbeycollege.edu
SUMMARY:Abbey Experience
DESCRIPTION:
URL:https://belmontabbeycollege.edu/event/abbey-experience-2/
LOCATION:North Carolina
CATEGORIES:Admissions Events,Campus Events
END:VEVENT
BEGIN:VEVENT
DTSTART;VALUE=DATE:20260418
DTEND;VALUE=DATE:20260419
DTSTAMP:20260423T110918
CREATED:20260318T204419Z
LAST-MODIFIED:20260318T204419Z
UID:10032609-1776470400-1776556799@belmontabbeycollege.edu
SUMMARY:Men's Volleyball vs MVB vs Conference Carolinas Tournament Semifinals
DESCRIPTION:Come cheer on your Crusaders in the Wheeler Center!
URL:https://belmontabbeycollege.edu/event/mens-volleyball-vs-mvb-vs-conference-carolinas-tournament-semifinals/
LOCATION:Wheeler Center
CATEGORIES:Academic Calendar,Campus Events,Sports
ATTACH;FMTTYPE=image/jpeg:https://belmontabbeycollege.edu/wp-content/uploads/2024/01/volleyball.jpg
END:VEVENT
BEGIN:VEVENT
DTSTART;TZID=America/New_York:20260418T110000
DTEND;TZID=America/New_York:20260418T120000
DTSTAMP:20260423T110918
CREATED:20251210T023541Z
LAST-MODIFIED:20260415T054836Z
UID:10033121-1776510000-1776513600@belmontabbeycollege.edu
SUMMARY:Mass
DESCRIPTION:
URL:https://belmontabbeycollege.edu/event/mass-3/2026-04-18/
LOCATION:Basilica of Mary\, Help of Christians\, 419 Monastery Lane\, Belmont\, NC\, 28012
CATEGORIES:Campus Events,Campus Ministry
ATTACH;FMTTYPE=image/jpeg:https://belmontabbeycollege.edu/wp-content/uploads/2021/05/Mass-Times.jpg
END:VEVENT
BEGIN:VEVENT
DTSTART;TZID=America/New_York:20260418T120000
DTEND;TZID=America/New_York:20260418T130000
DTSTAMP:20260423T110918
CREATED:20260318T204701Z
LAST-MODIFIED:20260318T204701Z
UID:10032610-1776513600-1776517200@belmontabbeycollege.edu
SUMMARY:Baseball vs Young Harris
DESCRIPTION:Come out and cheer on the Baseball team!
URL:https://belmontabbeycollege.edu/event/baseball-vs-young-harris/
LOCATION:Abbey Yard
CATEGORIES:Academic Calendar,Campus Events,Sports
ATTACH;FMTTYPE=image/png:https://belmontabbeycollege.edu/wp-content/uploads/2022/05/Abbey-Baseball.png
END:VEVENT
BEGIN:VEVENT
DTSTART;TZID=America/New_York:20260418T150000
DTEND;TZID=America/New_York:20260418T160000
DTSTAMP:20260423T110918
CREATED:20260318T204745Z
LAST-MODIFIED:20260318T204745Z
UID:10032611-1776524400-1776528000@belmontabbeycollege.edu
SUMMARY:Baseball vs Young Harris
DESCRIPTION:Come out and cheer on the Baseball team!
URL:https://belmontabbeycollege.edu/event/baseball-vs-young-harris-2/
LOCATION:Abbey Yard
CATEGORIES:Academic Calendar,Campus Events,Sports
ATTACH;FMTTYPE=image/png:https://belmontabbeycollege.edu/wp-content/uploads/2022/05/Abbey-Baseball.png
END:VEVENT
BEGIN:VEVENT
DTSTART;TZID=America/New_York:20260418T200000
DTEND;TZID=America/New_York:20260418T213000
DTSTAMP:20260423T110918
CREATED:20260304T185554Z
LAST-MODIFIED:20260304T185554Z
UID:10032523-1776542400-1776547800@belmontabbeycollege.edu
SUMMARY:Dance Showcase
DESCRIPTION:
URL:https://belmontabbeycollege.edu/event/dance-showcase-3/
LOCATION:Haid\, 166 Wimmer Circle\, Belmont\, NC\, 28012\, United States
CATEGORIES:Campus Events,Theatre
ATTACH;FMTTYPE=image/jpeg:https://belmontabbeycollege.edu/wp-content/uploads/2026/03/Dance-Showcase-2026.jpg
END:VEVENT
BEGIN:VEVENT
DTSTART;VALUE=DATE:20260419
DTEND;VALUE=DATE:20260420
DTSTAMP:20260423T110918
CREATED:20260318T204944Z
LAST-MODIFIED:20260318T204944Z
UID:10032612-1776556800-1776643199@belmontabbeycollege.edu
SUMMARY:Men's Volleyball vs MVB vs Conference Carolinas Tournament Final
DESCRIPTION:Come cheer on your Crusaders in the Wheeler Center!
URL:https://belmontabbeycollege.edu/event/mens-volleyball-vs-mvb-vs-conference-carolinas-tournament-final/
LOCATION:Wheeler Center
CATEGORIES:Academic Calendar,Campus Events,Sports
ATTACH;FMTTYPE=image/jpeg:https://belmontabbeycollege.edu/wp-content/uploads/2024/01/volleyball.jpg
END:VEVENT
BEGIN:VEVENT
DTSTART;TZID=America/New_York:20260419T110000
DTEND;TZID=America/New_York:20260419T120000
DTSTAMP:20260423T110918
CREATED:20251210T023541Z
LAST-MODIFIED:20260415T054836Z
UID:10033122-1776596400-1776600000@belmontabbeycollege.edu
SUMMARY:Mass
DESCRIPTION:
URL:https://belmontabbeycollege.edu/event/mass-3/2026-04-19/
LOCATION:Basilica of Mary\, Help of Christians\, 419 Monastery Lane\, Belmont\, NC\, 28012
CATEGORIES:Campus Events,Campus Ministry
ATTACH;FMTTYPE=image/jpeg:https://belmontabbeycollege.edu/wp-content/uploads/2021/05/Mass-Times.jpg
END:VEVENT
BEGIN:VEVENT
DTSTART;TZID=America/New_York:20260419T130000
DTEND;TZID=America/New_York:20260419T140000
DTSTAMP:20260423T110918
CREATED:20260410T154153Z
LAST-MODIFIED:20260410T154233Z
UID:10033299-1776603600-1776607200@belmontabbeycollege.edu
SUMMARY:Belmont Abbey March for Life
DESCRIPTION:
URL:https://belmontabbeycollege.edu/event/belmont-abbey-march-for-life/
LOCATION:Basilica of Mary\, Help of Christians\, 419 Monastery Lane\, Belmont\, NC\, 28012
CATEGORIES:Campus Events,Campus Ministry
ATTACH;FMTTYPE=image/png:https://belmontabbeycollege.edu/wp-content/uploads/2026/04/Belmont-Abbey-March-for-Life-2.png
END:VEVENT
BEGIN:VEVENT
DTSTART;TZID=America/New_York:20260419T143000
DTEND;TZID=America/New_York:20260419T160000
DTSTAMP:20260423T110918
CREATED:20260304T185512Z
LAST-MODIFIED:20260304T185512Z
UID:10032521-1776609000-1776614400@belmontabbeycollege.edu
SUMMARY:Dance Showcase
DESCRIPTION:
URL:https://belmontabbeycollege.edu/event/dance-showcase/
LOCATION:Haid\, 166 Wimmer Circle\, Belmont\, NC\, 28012\, United States
CATEGORIES:Campus Events,Theatre
ATTACH;FMTTYPE=image/jpeg:https://belmontabbeycollege.edu/wp-content/uploads/2026/03/Dance-Showcase-2026.jpg
END:VEVENT
BEGIN:VEVENT
DTSTART;TZID=America/New_York:20260420T081000
DTEND;TZID=America/New_York:20260420T084500
DTSTAMP:20260423T110918
CREATED:20240822T192303Z
LAST-MODIFIED:20260415T054824Z
UID:10027714-1776672600-1776674700@belmontabbeycollege.edu
SUMMARY:Mass
DESCRIPTION:
URL:https://belmontabbeycollege.edu/event/early-mass/2026-04-20/
LOCATION:Basilica of Mary\, Help of Christians\, 419 Monastery Lane\, Belmont\, NC\, 28012
CATEGORIES:Campus Events
ATTACH;FMTTYPE=image/jpeg:https://belmontabbeycollege.edu/wp-content/uploads/2021/08/spirituality-mass-times.jpg
END:VEVENT
BEGIN:VEVENT
DTSTART;TZID=America/New_York:20260420T110000
DTEND;TZID=America/New_York:20260420T120000
DTSTAMP:20260423T110918
CREATED:20251210T023541Z
LAST-MODIFIED:20260415T054836Z
UID:10033123-1776682800-1776686400@belmontabbeycollege.edu
SUMMARY:Mass
DESCRIPTION:
URL:https://belmontabbeycollege.edu/event/mass-3/2026-04-20/
LOCATION:Basilica of Mary\, Help of Christians\, 419 Monastery Lane\, Belmont\, NC\, 28012
CATEGORIES:Campus Events,Campus Ministry
ATTACH;FMTTYPE=image/jpeg:https://belmontabbeycollege.edu/wp-content/uploads/2021/05/Mass-Times.jpg
END:VEVENT
BEGIN:VEVENT
DTSTART;TZID=America/New_York:20260420T191500
DTEND;TZID=America/New_York:20260420T213000
DTSTAMP:20260423T110918
CREATED:20260416T210618Z
LAST-MODIFIED:20260416T210618Z
UID:10033330-1776712500-1776720600@belmontabbeycollege.edu
SUMMARY:Glow Run
DESCRIPTION:
URL:https://belmontabbeycollege.edu/event/glow-run/
LOCATION:North Carolina
CATEGORIES:Campus Events
ATTACH;FMTTYPE=image/png:https://belmontabbeycollege.edu/wp-content/uploads/2026/04/BAC-Founders-Day-2.png
END:VEVENT
BEGIN:VEVENT
DTSTART;VALUE=DATE:20260421
DTEND;VALUE=DATE:20260422
DTSTAMP:20260423T110918
CREATED:20260318T205205Z
LAST-MODIFIED:20260318T205205Z
UID:10032613-1776729600-1776815999@belmontabbeycollege.edu
SUMMARY:Men's Lacrosse vs Conference Carolinas Tournament Quarterfinals
DESCRIPTION:Come out and cheer on the Lacrosse team!
URL:https://belmontabbeycollege.edu/event/mens-lacrosse-vs-conference-carolinas-tournament-quarterfinals/
LOCATION:Alumni Field
CATEGORIES:Academic Calendar,Campus Events,Sports
ATTACH;FMTTYPE=image/jpeg:https://belmontabbeycollege.edu/wp-content/uploads/2018/05/170422_Abbey_Lacrosse_Edit_-1-4-web-1920x900-1.jpg
END:VEVENT
BEGIN:VEVENT
DTSTART;VALUE=DATE:20260421
DTEND;VALUE=DATE:20260425
DTSTAMP:20260423T110918
CREATED:20260317T180153Z
LAST-MODIFIED:20260317T180153Z
UID:10032574-1776729600-1777075199@belmontabbeycollege.edu
SUMMARY:Cover to Cover - Community Marathon Reading of the Bible
DESCRIPTION:
URL:https://belmontabbeycollege.edu/event/cover-to-cover-community-marathon-reading-of-the-bible/
LOCATION:BAC Seal
CATEGORIES:Campus Events,Campus Ministry
END:VEVENT
BEGIN:VEVENT
DTSTART;TZID=America/New_York:20260421T081000
DTEND;TZID=America/New_York:20260421T084500
DTSTAMP:20260423T110918
CREATED:20240822T192303Z
LAST-MODIFIED:20260415T054824Z
UID:10027715-1776759000-1776761100@belmontabbeycollege.edu
SUMMARY:Mass
DESCRIPTION:
URL:https://belmontabbeycollege.edu/event/early-mass/2026-04-21/
LOCATION:Basilica of Mary\, Help of Christians\, 419 Monastery Lane\, Belmont\, NC\, 28012
CATEGORIES:Campus Events
ATTACH;FMTTYPE=image/jpeg:https://belmontabbeycollege.edu/wp-content/uploads/2021/08/spirituality-mass-times.jpg
END:VEVENT
BEGIN:VEVENT
DTSTART;TZID=America/New_York:20260421T090000
DTEND;TZID=America/New_York:20260421T103000
DTSTAMP:20260423T110918
CREATED:20240826T143550Z
LAST-MODIFIED:20260415T054822Z
UID:10029780-1776762000-1776767400@belmontabbeycollege.edu
SUMMARY:Confessions
DESCRIPTION:
URL:https://belmontabbeycollege.edu/event/confessions/2026-04-21/
LOCATION:Basilica of Mary\, Help of Christians\, 419 Monastery Lane\, Belmont\, NC\, 28012
CATEGORIES:Campus Events,Monastery
ATTACH;FMTTYPE=image/jpeg:https://belmontabbeycollege.edu/wp-content/uploads/2023/03/Stations-of-the-Cross-015-1-scaled.jpg
END:VEVENT
BEGIN:VEVENT
DTSTART;TZID=America/New_York:20260421T110000
DTEND;TZID=America/New_York:20260421T120000
DTSTAMP:20260423T110918
CREATED:20251210T023541Z
LAST-MODIFIED:20260415T054836Z
UID:10033124-1776769200-1776772800@belmontabbeycollege.edu
SUMMARY:Mass
DESCRIPTION:
URL:https://belmontabbeycollege.edu/event/mass-3/2026-04-21/
LOCATION:Basilica of Mary\, Help of Christians\, 419 Monastery Lane\, Belmont\, NC\, 28012
CATEGORIES:Campus Events,Campus Ministry
ATTACH;FMTTYPE=image/jpeg:https://belmontabbeycollege.edu/wp-content/uploads/2021/05/Mass-Times.jpg
END:VEVENT
BEGIN:VEVENT
DTSTART;TZID=America/New_York:20260421T110000
DTEND;TZID=America/New_York:20260421T140000
DTSTAMP:20260423T110918
CREATED:20260416T210529Z
LAST-MODIFIED:20260417T140026Z
UID:10033329-1776769200-1776780000@belmontabbeycollege.edu
SUMMARY:Founders' Day Kickoff: Stop by for Swag and Snacks on the Quad
DESCRIPTION:On Tuesday\, April 21\, stop by the Quad between 11:00am and 2:00pm to participate in our Day of Giving!\n\nMake a gift\, grab a treat from the Snack Truck\, get some special Belmont Abbey swag\, and help make this 150th Anniversary Founders’ Day the best ever!
URL:https://belmontabbeycollege.edu/event/stop-by-for-swag-and-snacks-on-the-quad/
LOCATION:Quad
CATEGORIES:Campus Events
END:VEVENT
BEGIN:VEVENT
DTSTART;TZID=America/New_York:20260421T114500
DTEND;TZID=America/New_York:20260421T120000
DTSTAMP:20260423T110918
CREATED:20260116T201806Z
LAST-MODIFIED:20260415T054758Z
UID:10032060-1776771900-1776772800@belmontabbeycollege.edu
SUMMARY:Holy Face of Jesus Chaplet
DESCRIPTION:
URL:https://belmontabbeycollege.edu/event/campus-ministry-dinner-2/2026-04-21/
LOCATION:Campus Ministry Office
CATEGORIES:Campus Events,Campus Ministry
ATTACH;FMTTYPE=image/png:https://belmontabbeycollege.edu/wp-content/uploads/2026/01/Holy-Face-of-Jesus-devotion-poster.png
END:VEVENT
BEGIN:VEVENT
DTSTART;TZID=America/New_York:20260421T173000
DTEND;TZID=America/New_York:20260421T203000
DTSTAMP:20260423T110918
CREATED:20260416T210343Z
LAST-MODIFIED:20260416T210403Z
UID:10033328-1776792600-1776803400@belmontabbeycollege.edu
SUMMARY:Founders' Day Festival
DESCRIPTION:
URL:https://belmontabbeycollege.edu/event/community-founders-day-festival/
LOCATION:North Carolina
CATEGORIES:Campus Events
ATTACH;FMTTYPE=image/png:https://belmontabbeycollege.edu/wp-content/uploads/2026/04/Founders-Day-Festival.png
END:VEVENT
BEGIN:VEVENT
DTSTART;TZID=America/New_York:20260422T081000
DTEND;TZID=America/New_York:20260422T084500
DTSTAMP:20260423T110918
CREATED:20240822T192303Z
LAST-MODIFIED:20260415T054824Z
UID:10027716-1776845400-1776847500@belmontabbeycollege.edu
SUMMARY:Mass
DESCRIPTION:
URL:https://belmontabbeycollege.edu/event/early-mass/2026-04-22/
LOCATION:Basilica of Mary\, Help of Christians\, 419 Monastery Lane\, Belmont\, NC\, 28012
CATEGORIES:Campus Events
ATTACH;FMTTYPE=image/jpeg:https://belmontabbeycollege.edu/wp-content/uploads/2021/08/spirituality-mass-times.jpg
END:VEVENT
BEGIN:VEVENT
DTSTART;TZID=America/New_York:20260422T090000
DTEND;TZID=America/New_York:20260422T103000
DTSTAMP:20260423T110918
CREATED:20240826T143550Z
LAST-MODIFIED:20260415T054822Z
UID:10024695-1776848400-1776853800@belmontabbeycollege.edu
SUMMARY:Confessions
DESCRIPTION:
URL:https://belmontabbeycollege.edu/event/confessions/2026-04-22/
LOCATION:Basilica of Mary\, Help of Christians\, 419 Monastery Lane\, Belmont\, NC\, 28012
CATEGORIES:Campus Events,Monastery
ATTACH;FMTTYPE=image/jpeg:https://belmontabbeycollege.edu/wp-content/uploads/2023/03/Stations-of-the-Cross-015-1-scaled.jpg
END:VEVENT
BEGIN:VEVENT
DTSTART;TZID=America/New_York:20260422T110000
DTEND;TZID=America/New_York:20260422T120000
DTSTAMP:20260423T110918
CREATED:20251210T023541Z
LAST-MODIFIED:20260415T054836Z
UID:10033125-1776855600-1776859200@belmontabbeycollege.edu
SUMMARY:Mass
DESCRIPTION:
URL:https://belmontabbeycollege.edu/event/mass-3/2026-04-22/
LOCATION:Basilica of Mary\, Help of Christians\, 419 Monastery Lane\, Belmont\, NC\, 28012
CATEGORIES:Campus Events,Campus Ministry
ATTACH;FMTTYPE=image/jpeg:https://belmontabbeycollege.edu/wp-content/uploads/2021/05/Mass-Times.jpg
END:VEVENT
BEGIN:VEVENT
DTSTART;TZID=America/New_York:20260422T110000
DTEND;TZID=America/New_York:20260422T120000
DTSTAMP:20260423T110918
CREATED:20260120T210425Z
LAST-MODIFIED:20260120T210425Z
UID:10032091-1776855600-1776859200@belmontabbeycollege.edu
SUMMARY:Lecture: "Love\, Marriage\, and Friendship\," with Prof. Brian Killackey
DESCRIPTION:Please join the Honors College in our Public Lecture Series this semester!
URL:https://belmontabbeycollege.edu/event/lecture-love-marriage-and-friendship-with-prof-brian-killackey/
LOCATION:Grace Auditorium
CATEGORIES:Campus Events,Honors College
END:VEVENT
BEGIN:VEVENT
DTSTART;TZID=America/New_York:20260422T120000
DTEND;TZID=America/New_York:20260422T130000
DTSTAMP:20260423T110918
CREATED:20260417T202037Z
LAST-MODIFIED:20260417T202037Z
UID:10033332-1776859200-1776862800@belmontabbeycollege.edu
SUMMARY:Lecture: "Nature and Nature's God" with Justin Dyer
DESCRIPTION:
URL:https://belmontabbeycollege.edu/event/lecture-nature-and-natures-god-with-justin-dyer/
LOCATION:Mezzanine\, 540 Abbot Walter Commons Drive\, Belmont\, NC\, 28012\, United States
CATEGORIES:Campus Events,Honors College
ATTACH;FMTTYPE=image/png:https://belmontabbeycollege.edu/wp-content/uploads/2026/04/Justin-Dyer-Lecture-4202026-3.png
END:VEVENT
BEGIN:VEVENT
DTSTART;TZID=America/New_York:20260422T130000
DTEND;TZID=America/New_York:20260422T160000
DTSTAMP:20260423T110918
CREATED:20251023T203954Z
LAST-MODIFIED:20260415T054756Z
UID:10030711-1776862800-1776873600@belmontabbeycollege.edu
SUMMARY:"Bring Your Own Book" Club
DESCRIPTION:The Bring Your Own Book club is a group of avid readers who gather to enjoy books in a quiet environment and silent companionship. Bring whatever you are currently reading\, whether it be leisurely or academic\, and join us for a relaxing tea time for however long you can stay. Grab a quick cup of tea or coffee and a treat while reading a page or two in between a busy class schedule\, or stay as long as you like. Students\, staff\, and faculty are all welcome! Relax and refresh your Wednesday with us from 1-4 pm in Clancy’s.
URL:https://belmontabbeycollege.edu/event/bring-your-own-book-club/2026-04-22/
LOCATION:North Carolina
CATEGORIES:Campus Events
END:VEVENT
BEGIN:VEVENT
DTSTART;TZID=America/New_York:20260422T180000
DTEND;TZID=America/New_York:20260422T190000
DTSTAMP:20260423T110918
CREATED:20260318T155322Z
LAST-MODIFIED:20260420T180327Z
UID:10032586-1776880800-1776884400@belmontabbeycollege.edu
SUMMARY:Lecture: "The Rich New World of Catholic Literature" with Andrew Tolkmith
DESCRIPTION:Please join the Honors College in our Public Lecture Series!
URL:https://belmontabbeycollege.edu/event/lecture-nature-and-natures-god-the-american-founding-and-the-natural-law-tradition-with-justin-dyer/
LOCATION:Grace Auditorium
CATEGORIES:Campus Events,Honors College
ATTACH;FMTTYPE=image/png:https://belmontabbeycollege.edu/wp-content/uploads/2026/03/Andrew-Tolksmith-Lecture-4222026-1.png
END:VEVENT
BEGIN:VEVENT
DTSTART;TZID=America/New_York:20260422T203000
DTEND;TZID=America/New_York:20260422T213000
DTSTAMP:20260423T110918
CREATED:20250113T143354Z
LAST-MODIFIED:20260415T054754Z
UID:10026340-1776889800-1776893400@belmontabbeycollege.edu
SUMMARY:Chapel Mass
DESCRIPTION:
URL:https://belmontabbeycollege.edu/event/chapel-mass-2-2/2026-04-22/
LOCATION:St. Joseph Adoration Chapel
CATEGORIES:Campus Events,Campus Ministry
ATTACH;FMTTYPE=image/jpeg:https://belmontabbeycollege.edu/wp-content/uploads/2018/08/resized-adoration-chapel-2.jpg
END:VEVENT
BEGIN:VEVENT
DTSTART;TZID=America/New_York:20260423T081000
DTEND;TZID=America/New_York:20260423T084500
DTSTAMP:20260423T110918
CREATED:20240822T192303Z
LAST-MODIFIED:20260415T054824Z
UID:10027717-1776931800-1776933900@belmontabbeycollege.edu
SUMMARY:Mass
DESCRIPTION:
URL:https://belmontabbeycollege.edu/event/early-mass/2026-04-23/
LOCATION:Basilica of Mary\, Help of Christians\, 419 Monastery Lane\, Belmont\, NC\, 28012
CATEGORIES:Campus Events
ATTACH;FMTTYPE=image/jpeg:https://belmontabbeycollege.edu/wp-content/uploads/2021/08/spirituality-mass-times.jpg
END:VEVENT
END:VCALENDAR