BEGIN:VCALENDAR
VERSION:2.0
PRODID:-//Belmont Abbey College - ECPv6.15.18//NONSGML v1.0//EN
CALSCALE:GREGORIAN
METHOD:PUBLISH
X-WR-CALNAME:Belmont Abbey College
X-ORIGINAL-URL:https://belmontabbeycollege.edu
X-WR-CALDESC:Events for Belmont Abbey College
REFRESH-INTERVAL;VALUE=DURATION:PT1H
X-Robots-Tag:noindex
X-PUBLISHED-TTL:PT1H
BEGIN:VTIMEZONE
TZID:America/New_York
BEGIN:DAYLIGHT
TZOFFSETFROM:-0500
TZOFFSETTO:-0400
TZNAME:EDT
DTSTART:20250309T070000
END:DAYLIGHT
BEGIN:STANDARD
TZOFFSETFROM:-0400
TZOFFSETTO:-0500
TZNAME:EST
DTSTART:20251102T060000
END:STANDARD
BEGIN:DAYLIGHT
TZOFFSETFROM:-0500
TZOFFSETTO:-0400
TZNAME:EDT
DTSTART:20260308T070000
END:DAYLIGHT
BEGIN:STANDARD
TZOFFSETFROM:-0400
TZOFFSETTO:-0500
TZNAME:EST
DTSTART:20261101T060000
END:STANDARD
BEGIN:DAYLIGHT
TZOFFSETFROM:-0500
TZOFFSETTO:-0400
TZNAME:EDT
DTSTART:20270314T070000
END:DAYLIGHT
BEGIN:STANDARD
TZOFFSETFROM:-0400
TZOFFSETTO:-0500
TZNAME:EST
DTSTART:20271107T060000
END:STANDARD
END:VTIMEZONE
BEGIN:VEVENT
DTSTART;TZID=America/New_York:20260618T163000
DTEND;TZID=America/New_York:20260618T172000
DTSTAMP:20260425T104200
CREATED:20230815T140233Z
LAST-MODIFIED:20260415T054834Z
UID:10005165-1781800200-1781803200@belmontabbeycollege.edu
SUMMARY:Basilica Confessions
DESCRIPTION:
URL:https://belmontabbeycollege.edu/event/basilica-confessionals-2-2-2-2-2/2026-06-18/
LOCATION:Basilica of Mary\, Help of Christians\, 419 Monastery Lane\, Belmont\, NC\, 28012
CATEGORIES:Campus Events,Campus Ministry
ATTACH;FMTTYPE=image/jpeg:https://belmontabbeycollege.edu/wp-content/uploads/2021/05/Confession.jpg
END:VEVENT
BEGIN:VEVENT
DTSTART;TZID=America/New_York:20260619T110000
DTEND;TZID=America/New_York:20260619T120000
DTSTAMP:20260425T104200
CREATED:20251210T023541Z
LAST-MODIFIED:20260415T054836Z
UID:10033183-1781866800-1781870400@belmontabbeycollege.edu
SUMMARY:Mass
DESCRIPTION:
URL:https://belmontabbeycollege.edu/event/mass-3/2026-06-19/
LOCATION:Basilica of Mary\, Help of Christians\, 419 Monastery Lane\, Belmont\, NC\, 28012
CATEGORIES:Campus Events,Campus Ministry
ATTACH;FMTTYPE=image/jpeg:https://belmontabbeycollege.edu/wp-content/uploads/2021/05/Mass-Times.jpg
END:VEVENT
BEGIN:VEVENT
DTSTART;TZID=America/New_York:20260620T100000
DTEND;TZID=America/New_York:20260620T105000
DTSTAMP:20260425T104200
CREATED:20230815T140834Z
LAST-MODIFIED:20260415T054749Z
UID:10005689-1781949600-1781952600@belmontabbeycollege.edu
SUMMARY:Basilica Confessions
DESCRIPTION:
URL:https://belmontabbeycollege.edu/event/basilica-confessionals-2-3/2026-06-20/
LOCATION:Belmont Abbey College Campus\, 100 Belmont-Mt. Holly Road\, Belmont\, NC\, 28012\, United States
CATEGORIES:Campus Events,Campus Ministry
ATTACH;FMTTYPE=image/jpeg:https://belmontabbeycollege.edu/wp-content/uploads/2022/09/Confession.jpg
END:VEVENT
BEGIN:VEVENT
DTSTART;TZID=America/New_York:20260620T110000
DTEND;TZID=America/New_York:20260620T120000
DTSTAMP:20260425T104200
CREATED:20251210T023541Z
LAST-MODIFIED:20260415T054836Z
UID:10033184-1781953200-1781956800@belmontabbeycollege.edu
SUMMARY:Mass
DESCRIPTION:
URL:https://belmontabbeycollege.edu/event/mass-3/2026-06-20/
LOCATION:Basilica of Mary\, Help of Christians\, 419 Monastery Lane\, Belmont\, NC\, 28012
CATEGORIES:Campus Events,Campus Ministry
ATTACH;FMTTYPE=image/jpeg:https://belmontabbeycollege.edu/wp-content/uploads/2021/05/Mass-Times.jpg
END:VEVENT
BEGIN:VEVENT
DTSTART;TZID=America/New_York:20260621T100000
DTEND;TZID=America/New_York:20260621T105000
DTSTAMP:20260425T104200
CREATED:20230815T140834Z
LAST-MODIFIED:20260415T054749Z
UID:10005690-1782036000-1782039000@belmontabbeycollege.edu
SUMMARY:Basilica Confessions
DESCRIPTION:
URL:https://belmontabbeycollege.edu/event/basilica-confessionals-2-3/2026-06-21/
LOCATION:Belmont Abbey College Campus\, 100 Belmont-Mt. Holly Road\, Belmont\, NC\, 28012\, United States
CATEGORIES:Campus Events,Campus Ministry
ATTACH;FMTTYPE=image/jpeg:https://belmontabbeycollege.edu/wp-content/uploads/2022/09/Confession.jpg
END:VEVENT
BEGIN:VEVENT
DTSTART;TZID=America/New_York:20260621T110000
DTEND;TZID=America/New_York:20260621T120000
DTSTAMP:20260425T104200
CREATED:20251210T023541Z
LAST-MODIFIED:20260415T054836Z
UID:10033185-1782039600-1782043200@belmontabbeycollege.edu
SUMMARY:Mass
DESCRIPTION:
URL:https://belmontabbeycollege.edu/event/mass-3/2026-06-21/
LOCATION:Basilica of Mary\, Help of Christians\, 419 Monastery Lane\, Belmont\, NC\, 28012
CATEGORIES:Campus Events,Campus Ministry
ATTACH;FMTTYPE=image/jpeg:https://belmontabbeycollege.edu/wp-content/uploads/2021/05/Mass-Times.jpg
END:VEVENT
BEGIN:VEVENT
DTSTART;TZID=America/New_York:20260621T193000
DTEND;TZID=America/New_York:20260621T193000
DTSTAMP:20260425T104200
CREATED:20230815T195246Z
LAST-MODIFIED:20260415T054751Z
UID:10006088-1782070200-1782070200@belmontabbeycollege.edu
SUMMARY:Student Mass
DESCRIPTION:
URL:https://belmontabbeycollege.edu/event/student-mass-3-2-2/2026-06-21/
LOCATION:Basilica of Mary\, Help of Christians\, 419 Monastery Lane\, Belmont\, NC\, 28012
CATEGORIES:Campus Events,Campus Ministry
ATTACH;FMTTYPE=image/png:https://belmontabbeycollege.edu/wp-content/uploads/2019/01/Basilicawbuidlings2.png
END:VEVENT
BEGIN:VEVENT
DTSTART;TZID=America/New_York:20260622T110000
DTEND;TZID=America/New_York:20260622T120000
DTSTAMP:20260425T104200
CREATED:20251210T023541Z
LAST-MODIFIED:20260415T054836Z
UID:10033186-1782126000-1782129600@belmontabbeycollege.edu
SUMMARY:Mass
DESCRIPTION:
URL:https://belmontabbeycollege.edu/event/mass-3/2026-06-22/
LOCATION:Basilica of Mary\, Help of Christians\, 419 Monastery Lane\, Belmont\, NC\, 28012
CATEGORIES:Campus Events,Campus Ministry
ATTACH;FMTTYPE=image/jpeg:https://belmontabbeycollege.edu/wp-content/uploads/2021/05/Mass-Times.jpg
END:VEVENT
BEGIN:VEVENT
DTSTART;TZID=America/New_York:20260622T163000
DTEND;TZID=America/New_York:20260622T172000
DTSTAMP:20260425T104200
CREATED:20230815T140233Z
LAST-MODIFIED:20260415T054834Z
UID:10005166-1782145800-1782148800@belmontabbeycollege.edu
SUMMARY:Basilica Confessions
DESCRIPTION:
URL:https://belmontabbeycollege.edu/event/basilica-confessionals-2-2-2-2-2/2026-06-22/
LOCATION:Basilica of Mary\, Help of Christians\, 419 Monastery Lane\, Belmont\, NC\, 28012
CATEGORIES:Campus Events,Campus Ministry
ATTACH;FMTTYPE=image/jpeg:https://belmontabbeycollege.edu/wp-content/uploads/2021/05/Confession.jpg
END:VEVENT
BEGIN:VEVENT
DTSTART;TZID=America/New_York:20260623T110000
DTEND;TZID=America/New_York:20260623T120000
DTSTAMP:20260425T104200
CREATED:20251210T023541Z
LAST-MODIFIED:20260415T054836Z
UID:10033187-1782212400-1782216000@belmontabbeycollege.edu
SUMMARY:Mass
DESCRIPTION:
URL:https://belmontabbeycollege.edu/event/mass-3/2026-06-23/
LOCATION:Basilica of Mary\, Help of Christians\, 419 Monastery Lane\, Belmont\, NC\, 28012
CATEGORIES:Campus Events,Campus Ministry
ATTACH;FMTTYPE=image/jpeg:https://belmontabbeycollege.edu/wp-content/uploads/2021/05/Mass-Times.jpg
END:VEVENT
BEGIN:VEVENT
DTSTART;TZID=America/New_York:20260624T110000
DTEND;TZID=America/New_York:20260624T120000
DTSTAMP:20260425T104200
CREATED:20251210T023541Z
LAST-MODIFIED:20260415T054836Z
UID:10033188-1782298800-1782302400@belmontabbeycollege.edu
SUMMARY:Mass
DESCRIPTION:
URL:https://belmontabbeycollege.edu/event/mass-3/2026-06-24/
LOCATION:Basilica of Mary\, Help of Christians\, 419 Monastery Lane\, Belmont\, NC\, 28012
CATEGORIES:Campus Events,Campus Ministry
ATTACH;FMTTYPE=image/jpeg:https://belmontabbeycollege.edu/wp-content/uploads/2021/05/Mass-Times.jpg
END:VEVENT
BEGIN:VEVENT
DTSTART;TZID=America/New_York:20260624T203000
DTEND;TZID=America/New_York:20260624T213000
DTSTAMP:20260425T104200
CREATED:20250113T143354Z
LAST-MODIFIED:20260415T054754Z
UID:10026349-1782333000-1782336600@belmontabbeycollege.edu
SUMMARY:Chapel Mass
DESCRIPTION:
URL:https://belmontabbeycollege.edu/event/chapel-mass-2-2/2026-06-24/
LOCATION:St. Joseph Adoration Chapel
CATEGORIES:Campus Events,Campus Ministry
ATTACH;FMTTYPE=image/jpeg:https://belmontabbeycollege.edu/wp-content/uploads/2018/08/resized-adoration-chapel-2.jpg
END:VEVENT
BEGIN:VEVENT
DTSTART;TZID=America/New_York:20260625T110000
DTEND;TZID=America/New_York:20260625T120000
DTSTAMP:20260425T104200
CREATED:20251210T023541Z
LAST-MODIFIED:20260415T054836Z
UID:10033189-1782385200-1782388800@belmontabbeycollege.edu
SUMMARY:Mass
DESCRIPTION:
URL:https://belmontabbeycollege.edu/event/mass-3/2026-06-25/
LOCATION:Basilica of Mary\, Help of Christians\, 419 Monastery Lane\, Belmont\, NC\, 28012
CATEGORIES:Campus Events,Campus Ministry
ATTACH;FMTTYPE=image/jpeg:https://belmontabbeycollege.edu/wp-content/uploads/2021/05/Mass-Times.jpg
END:VEVENT
BEGIN:VEVENT
DTSTART;TZID=America/New_York:20260625T163000
DTEND;TZID=America/New_York:20260625T172000
DTSTAMP:20260425T104200
CREATED:20230815T140233Z
LAST-MODIFIED:20260415T054834Z
UID:10005167-1782405000-1782408000@belmontabbeycollege.edu
SUMMARY:Basilica Confessions
DESCRIPTION:
URL:https://belmontabbeycollege.edu/event/basilica-confessionals-2-2-2-2-2/2026-06-25/
LOCATION:Basilica of Mary\, Help of Christians\, 419 Monastery Lane\, Belmont\, NC\, 28012
CATEGORIES:Campus Events,Campus Ministry
ATTACH;FMTTYPE=image/jpeg:https://belmontabbeycollege.edu/wp-content/uploads/2021/05/Confession.jpg
END:VEVENT
BEGIN:VEVENT
DTSTART;TZID=America/New_York:20260626T110000
DTEND;TZID=America/New_York:20260626T120000
DTSTAMP:20260425T104200
CREATED:20251210T023541Z
LAST-MODIFIED:20260415T054836Z
UID:10033190-1782471600-1782475200@belmontabbeycollege.edu
SUMMARY:Mass
DESCRIPTION:
URL:https://belmontabbeycollege.edu/event/mass-3/2026-06-26/
LOCATION:Basilica of Mary\, Help of Christians\, 419 Monastery Lane\, Belmont\, NC\, 28012
CATEGORIES:Campus Events,Campus Ministry
ATTACH;FMTTYPE=image/jpeg:https://belmontabbeycollege.edu/wp-content/uploads/2021/05/Mass-Times.jpg
END:VEVENT
BEGIN:VEVENT
DTSTART;TZID=America/New_York:20260627T100000
DTEND;TZID=America/New_York:20260627T105000
DTSTAMP:20260425T104200
CREATED:20230815T140834Z
LAST-MODIFIED:20260415T054749Z
UID:10005691-1782554400-1782557400@belmontabbeycollege.edu
SUMMARY:Basilica Confessions
DESCRIPTION:
URL:https://belmontabbeycollege.edu/event/basilica-confessionals-2-3/2026-06-27/
LOCATION:Belmont Abbey College Campus\, 100 Belmont-Mt. Holly Road\, Belmont\, NC\, 28012\, United States
CATEGORIES:Campus Events,Campus Ministry
ATTACH;FMTTYPE=image/jpeg:https://belmontabbeycollege.edu/wp-content/uploads/2022/09/Confession.jpg
END:VEVENT
BEGIN:VEVENT
DTSTART;TZID=America/New_York:20260627T110000
DTEND;TZID=America/New_York:20260627T120000
DTSTAMP:20260425T104200
CREATED:20251210T023541Z
LAST-MODIFIED:20260415T054836Z
UID:10033191-1782558000-1782561600@belmontabbeycollege.edu
SUMMARY:Mass
DESCRIPTION:
URL:https://belmontabbeycollege.edu/event/mass-3/2026-06-27/
LOCATION:Basilica of Mary\, Help of Christians\, 419 Monastery Lane\, Belmont\, NC\, 28012
CATEGORIES:Campus Events,Campus Ministry
ATTACH;FMTTYPE=image/jpeg:https://belmontabbeycollege.edu/wp-content/uploads/2021/05/Mass-Times.jpg
END:VEVENT
BEGIN:VEVENT
DTSTART;TZID=America/New_York:20260628T100000
DTEND;TZID=America/New_York:20260628T105000
DTSTAMP:20260425T104200
CREATED:20230815T140834Z
LAST-MODIFIED:20260415T054749Z
UID:10005692-1782640800-1782643800@belmontabbeycollege.edu
SUMMARY:Basilica Confessions
DESCRIPTION:
URL:https://belmontabbeycollege.edu/event/basilica-confessionals-2-3/2026-06-28/
LOCATION:Belmont Abbey College Campus\, 100 Belmont-Mt. Holly Road\, Belmont\, NC\, 28012\, United States
CATEGORIES:Campus Events,Campus Ministry
ATTACH;FMTTYPE=image/jpeg:https://belmontabbeycollege.edu/wp-content/uploads/2022/09/Confession.jpg
END:VEVENT
BEGIN:VEVENT
DTSTART;TZID=America/New_York:20260628T110000
DTEND;TZID=America/New_York:20260628T120000
DTSTAMP:20260425T104200
CREATED:20251210T023541Z
LAST-MODIFIED:20260415T054836Z
UID:10033192-1782644400-1782648000@belmontabbeycollege.edu
SUMMARY:Mass
DESCRIPTION:
URL:https://belmontabbeycollege.edu/event/mass-3/2026-06-28/
LOCATION:Basilica of Mary\, Help of Christians\, 419 Monastery Lane\, Belmont\, NC\, 28012
CATEGORIES:Campus Events,Campus Ministry
ATTACH;FMTTYPE=image/jpeg:https://belmontabbeycollege.edu/wp-content/uploads/2021/05/Mass-Times.jpg
END:VEVENT
BEGIN:VEVENT
DTSTART;TZID=America/New_York:20260628T193000
DTEND;TZID=America/New_York:20260628T193000
DTSTAMP:20260425T104200
CREATED:20230815T195246Z
LAST-MODIFIED:20260415T054751Z
UID:10006089-1782675000-1782675000@belmontabbeycollege.edu
SUMMARY:Student Mass
DESCRIPTION:
URL:https://belmontabbeycollege.edu/event/student-mass-3-2-2/2026-06-28/
LOCATION:Basilica of Mary\, Help of Christians\, 419 Monastery Lane\, Belmont\, NC\, 28012
CATEGORIES:Campus Events,Campus Ministry
ATTACH;FMTTYPE=image/png:https://belmontabbeycollege.edu/wp-content/uploads/2019/01/Basilicawbuidlings2.png
END:VEVENT
BEGIN:VEVENT
DTSTART;TZID=America/New_York:20260629T110000
DTEND;TZID=America/New_York:20260629T120000
DTSTAMP:20260425T104200
CREATED:20251210T023541Z
LAST-MODIFIED:20260415T054836Z
UID:10033193-1782730800-1782734400@belmontabbeycollege.edu
SUMMARY:Mass
DESCRIPTION:
URL:https://belmontabbeycollege.edu/event/mass-3/2026-06-29/
LOCATION:Basilica of Mary\, Help of Christians\, 419 Monastery Lane\, Belmont\, NC\, 28012
CATEGORIES:Campus Events,Campus Ministry
ATTACH;FMTTYPE=image/jpeg:https://belmontabbeycollege.edu/wp-content/uploads/2021/05/Mass-Times.jpg
END:VEVENT
BEGIN:VEVENT
DTSTART;TZID=America/New_York:20260629T163000
DTEND;TZID=America/New_York:20260629T172000
DTSTAMP:20260425T104200
CREATED:20230815T140233Z
LAST-MODIFIED:20260415T054834Z
UID:10005168-1782750600-1782753600@belmontabbeycollege.edu
SUMMARY:Basilica Confessions
DESCRIPTION:
URL:https://belmontabbeycollege.edu/event/basilica-confessionals-2-2-2-2-2/2026-06-29/
LOCATION:Basilica of Mary\, Help of Christians\, 419 Monastery Lane\, Belmont\, NC\, 28012
CATEGORIES:Campus Events,Campus Ministry
ATTACH;FMTTYPE=image/jpeg:https://belmontabbeycollege.edu/wp-content/uploads/2021/05/Confession.jpg
END:VEVENT
BEGIN:VEVENT
DTSTART;TZID=America/New_York:20260630T110000
DTEND;TZID=America/New_York:20260630T120000
DTSTAMP:20260425T104200
CREATED:20251210T023541Z
LAST-MODIFIED:20260415T054836Z
UID:10033194-1782817200-1782820800@belmontabbeycollege.edu
SUMMARY:Mass
DESCRIPTION:
URL:https://belmontabbeycollege.edu/event/mass-3/2026-06-30/
LOCATION:Basilica of Mary\, Help of Christians\, 419 Monastery Lane\, Belmont\, NC\, 28012
CATEGORIES:Campus Events,Campus Ministry
ATTACH;FMTTYPE=image/jpeg:https://belmontabbeycollege.edu/wp-content/uploads/2021/05/Mass-Times.jpg
END:VEVENT
BEGIN:VEVENT
DTSTART;TZID=America/New_York:20260701T110000
DTEND;TZID=America/New_York:20260701T120000
DTSTAMP:20260425T104200
CREATED:20251210T023541Z
LAST-MODIFIED:20260415T054836Z
UID:10033195-1782903600-1782907200@belmontabbeycollege.edu
SUMMARY:Mass
DESCRIPTION:
URL:https://belmontabbeycollege.edu/event/mass-3/2026-07-01/
LOCATION:Basilica of Mary\, Help of Christians\, 419 Monastery Lane\, Belmont\, NC\, 28012
CATEGORIES:Campus Events,Campus Ministry
ATTACH;FMTTYPE=image/jpeg:https://belmontabbeycollege.edu/wp-content/uploads/2021/05/Mass-Times.jpg
END:VEVENT
BEGIN:VEVENT
DTSTART;TZID=America/New_York:20260701T203000
DTEND;TZID=America/New_York:20260701T213000
DTSTAMP:20260425T104200
CREATED:20250113T143354Z
LAST-MODIFIED:20260415T054754Z
UID:10026350-1782937800-1782941400@belmontabbeycollege.edu
SUMMARY:Chapel Mass
DESCRIPTION:
URL:https://belmontabbeycollege.edu/event/chapel-mass-2-2/2026-07-01/
LOCATION:St. Joseph Adoration Chapel
CATEGORIES:Campus Events,Campus Ministry
ATTACH;FMTTYPE=image/jpeg:https://belmontabbeycollege.edu/wp-content/uploads/2018/08/resized-adoration-chapel-2.jpg
END:VEVENT
BEGIN:VEVENT
DTSTART;TZID=America/New_York:20260702T110000
DTEND;TZID=America/New_York:20260702T120000
DTSTAMP:20260425T104200
CREATED:20251210T023541Z
LAST-MODIFIED:20260415T054836Z
UID:10033196-1782990000-1782993600@belmontabbeycollege.edu
SUMMARY:Mass
DESCRIPTION:
URL:https://belmontabbeycollege.edu/event/mass-3/2026-07-02/
LOCATION:Basilica of Mary\, Help of Christians\, 419 Monastery Lane\, Belmont\, NC\, 28012
CATEGORIES:Campus Events,Campus Ministry
ATTACH;FMTTYPE=image/jpeg:https://belmontabbeycollege.edu/wp-content/uploads/2021/05/Mass-Times.jpg
END:VEVENT
BEGIN:VEVENT
DTSTART;TZID=America/New_York:20260702T163000
DTEND;TZID=America/New_York:20260702T172000
DTSTAMP:20260425T104200
CREATED:20230815T140233Z
LAST-MODIFIED:20260415T054834Z
UID:10005169-1783009800-1783012800@belmontabbeycollege.edu
SUMMARY:Basilica Confessions
DESCRIPTION:
URL:https://belmontabbeycollege.edu/event/basilica-confessionals-2-2-2-2-2/2026-07-02/
LOCATION:Basilica of Mary\, Help of Christians\, 419 Monastery Lane\, Belmont\, NC\, 28012
CATEGORIES:Campus Events,Campus Ministry
ATTACH;FMTTYPE=image/jpeg:https://belmontabbeycollege.edu/wp-content/uploads/2021/05/Confession.jpg
END:VEVENT
BEGIN:VEVENT
DTSTART;TZID=America/New_York:20260703T110000
DTEND;TZID=America/New_York:20260703T120000
DTSTAMP:20260425T104200
CREATED:20251210T023541Z
LAST-MODIFIED:20260415T054836Z
UID:10033197-1783076400-1783080000@belmontabbeycollege.edu
SUMMARY:Mass
DESCRIPTION:
URL:https://belmontabbeycollege.edu/event/mass-3/2026-07-03/
LOCATION:Basilica of Mary\, Help of Christians\, 419 Monastery Lane\, Belmont\, NC\, 28012
CATEGORIES:Campus Events,Campus Ministry
ATTACH;FMTTYPE=image/jpeg:https://belmontabbeycollege.edu/wp-content/uploads/2021/05/Mass-Times.jpg
END:VEVENT
BEGIN:VEVENT
DTSTART;TZID=America/New_York:20260704T101500
DTEND;TZID=America/New_York:20260704T121500
DTSTAMP:20260425T104200
CREATED:20230909T005611Z
LAST-MODIFIED:20260415T054800Z
UID:10011994-1783160100-1783167300@belmontabbeycollege.edu
SUMMARY:First Saturday Devotion to the Immaculate Heart of Mary
DESCRIPTION:Every first Saturday of the month at 10:15am\, pray the Rosary and offer a Communion of Reparation to the Immaculate Heart of Mary. Refreshments on the piazza to follow Mass.
URL:https://belmontabbeycollege.edu/event/first-saturday-devotion-to-the-immaculate-heart-of-mary/2026-07-04/
LOCATION:Basilica of Mary\, Help of Christians\, 419 Monastery Lane\, Belmont\, NC\, 28012
CATEGORIES:Campus Events,Campus Ministry
ATTACH;FMTTYPE=image/png:https://belmontabbeycollege.edu/wp-content/uploads/2023/09/HU-2.png
ORGANIZER;CN="Campus Ministry":MAILTO:campusministry@bac.edu
END:VEVENT
BEGIN:VEVENT
DTSTART;TZID=America/New_York:20260704T110000
DTEND;TZID=America/New_York:20260704T120000
DTSTAMP:20260425T104200
CREATED:20251210T023541Z
LAST-MODIFIED:20260415T054836Z
UID:10033198-1783162800-1783166400@belmontabbeycollege.edu
SUMMARY:Mass
DESCRIPTION:
URL:https://belmontabbeycollege.edu/event/mass-3/2026-07-04/
LOCATION:Basilica of Mary\, Help of Christians\, 419 Monastery Lane\, Belmont\, NC\, 28012
CATEGORIES:Campus Events,Campus Ministry
ATTACH;FMTTYPE=image/jpeg:https://belmontabbeycollege.edu/wp-content/uploads/2021/05/Mass-Times.jpg
END:VEVENT
END:VCALENDAR