BEGIN:VCALENDAR
VERSION:2.0
PRODID:-//Belmont Abbey College - ECPv6.15.18//NONSGML v1.0//EN
CALSCALE:GREGORIAN
METHOD:PUBLISH
X-ORIGINAL-URL:https://belmontabbeycollege.edu
X-WR-CALDESC:Events for Belmont Abbey College
REFRESH-INTERVAL;VALUE=DURATION:PT1H
X-Robots-Tag:noindex
X-PUBLISHED-TTL:PT1H
BEGIN:VTIMEZONE
TZID:America/New_York
BEGIN:DAYLIGHT
TZOFFSETFROM:-0500
TZOFFSETTO:-0400
TZNAME:EDT
DTSTART:20250309T070000
END:DAYLIGHT
BEGIN:STANDARD
TZOFFSETFROM:-0400
TZOFFSETTO:-0500
TZNAME:EST
DTSTART:20251102T060000
END:STANDARD
BEGIN:DAYLIGHT
TZOFFSETFROM:-0500
TZOFFSETTO:-0400
TZNAME:EDT
DTSTART:20260308T070000
END:DAYLIGHT
BEGIN:STANDARD
TZOFFSETFROM:-0400
TZOFFSETTO:-0500
TZNAME:EST
DTSTART:20261101T060000
END:STANDARD
BEGIN:DAYLIGHT
TZOFFSETFROM:-0500
TZOFFSETTO:-0400
TZNAME:EDT
DTSTART:20270314T070000
END:DAYLIGHT
BEGIN:STANDARD
TZOFFSETFROM:-0400
TZOFFSETTO:-0500
TZNAME:EST
DTSTART:20271107T060000
END:STANDARD
END:VTIMEZONE
BEGIN:VEVENT
DTSTART;TZID=America/New_York:20260325T190000
DTEND;TZID=America/New_York:20260325T190000
DTSTAMP:20260420T220753
CREATED:20260202T211044Z
LAST-MODIFIED:20260202T211044Z
UID:10032303-1774465200-1774465200@belmontabbeycollege.edu
SUMMARY:Men's Volleyball vs Emmanuel
DESCRIPTION:Come cheer on your Crusaders in the Wheeler Center!
URL:https://belmontabbeycollege.edu/event/mens-volleyball-vs-emmanuel/
LOCATION:Wheeler Center
CATEGORIES:Academic Calendar,Campus Events,Sports
ATTACH;FMTTYPE=image/jpeg:https://belmontabbeycollege.edu/wp-content/uploads/2024/01/volleyball.jpg
END:VEVENT
BEGIN:VEVENT
DTSTART;TZID=America/New_York:20260325T170000
DTEND;TZID=America/New_York:20260325T170000
DTSTAMP:20260420T220753
CREATED:20260202T210912Z
LAST-MODIFIED:20260202T210912Z
UID:10032302-1774458000-1774458000@belmontabbeycollege.edu
SUMMARY:Women's Lacrosse vs North Greenville
DESCRIPTION:`Come out and cheer on the Lacrosse team!
URL:https://belmontabbeycollege.edu/event/womens-lacrosse-vs-north-greenville/
LOCATION:Alumni Field
CATEGORIES:Academic Calendar,Campus Events,Sports
ATTACH;FMTTYPE=image/jpeg:https://belmontabbeycollege.edu/wp-content/uploads/2024/01/womens-lacrosse.jpg
END:VEVENT
BEGIN:VEVENT
DTSTART;TZID=America/New_York:20260324T180000
DTEND;TZID=America/New_York:20260324T180000
DTSTAMP:20260420T220753
CREATED:20260202T210805Z
LAST-MODIFIED:20260202T210805Z
UID:10032301-1774375200-1774375200@belmontabbeycollege.edu
SUMMARY:Men's Lacrosse vs North Greenville
DESCRIPTION:`Come out and cheer on the Lacrosse team!
URL:https://belmontabbeycollege.edu/event/mens-lacrosse-vs-north-greenville/
LOCATION:Alumni Field
CATEGORIES:Academic Calendar,Campus Events,Sports
ATTACH;FMTTYPE=image/jpeg:https://belmontabbeycollege.edu/wp-content/uploads/2018/05/170422_Abbey_Lacrosse_Edit_-1-4-web-1920x900-1.jpg
END:VEVENT
BEGIN:VEVENT
DTSTART;TZID=America/New_York:20260324T170000
DTEND;TZID=America/New_York:20260324T170000
DTSTAMP:20260420T220753
CREATED:20260202T210533Z
LAST-MODIFIED:20260202T210533Z
UID:10032300-1774371600-1774371600@belmontabbeycollege.edu
SUMMARY:Baseball vs Emory & Henry
DESCRIPTION:`Come out and cheer on the Baseball team!
URL:https://belmontabbeycollege.edu/event/baseball-vs-emory-henry/
LOCATION:Abbey Yard
CATEGORIES:Academic Calendar,Campus Events,Sports
ATTACH;FMTTYPE=image/png:https://belmontabbeycollege.edu/wp-content/uploads/2022/05/Abbey-Baseball.png
END:VEVENT
BEGIN:VEVENT
DTSTART;TZID=America/New_York:20260321T150000
DTEND;TZID=America/New_York:20260321T150000
DTSTAMP:20260420T220753
CREATED:20260202T203719Z
LAST-MODIFIED:20260202T203719Z
UID:10032296-1774105200-1774105200@belmontabbeycollege.edu
SUMMARY:Softball vs King
DESCRIPTION:`Come out and cheer on the Softball team!
URL:https://belmontabbeycollege.edu/event/softball-vs-king/
LOCATION:Abbey Yard
CATEGORIES:Academic Calendar,Campus Events,Sports
ATTACH;FMTTYPE=image/jpeg:https://belmontabbeycollege.edu/wp-content/uploads/2024/04/resize.jpg
END:VEVENT
BEGIN:VEVENT
DTSTART;TZID=America/New_York:20260321T130000
DTEND;TZID=America/New_York:20260321T130000
DTSTAMP:20260420T220753
CREATED:20260202T204015Z
LAST-MODIFIED:20260202T204015Z
UID:10032299-1774098000-1774098000@belmontabbeycollege.edu
SUMMARY:Men's Tennis vs North Greenville
DESCRIPTION:‘Come show your support for our Crusader’s tennis team!
URL:https://belmontabbeycollege.edu/event/mens-tennis-vs-north-greenville/
LOCATION:Belmont Abbey College Campus\, 100 Belmont-Mt. Holly Road\, Belmont\, NC\, 28012\, United States
CATEGORIES:Academic Calendar,Campus Events,Sports
ATTACH;FMTTYPE=image/png:https://belmontabbeycollege.edu/wp-content/uploads/2023/05/tennis-good-job.png
END:VEVENT
BEGIN:VEVENT
DTSTART;TZID=America/New_York:20260321T130000
DTEND;TZID=America/New_York:20260321T130000
DTSTAMP:20260420T220753
CREATED:20260202T203918Z
LAST-MODIFIED:20260202T203918Z
UID:10032298-1774098000-1774098000@belmontabbeycollege.edu
SUMMARY:Women's Tennis v. North Greenville
DESCRIPTION:Come show your support for our women’s tennis team!
URL:https://belmontabbeycollege.edu/event/womens-tennis-v-north-greenville/
LOCATION:Belmont Abbey College Campus\, 100 Belmont-Mt. Holly Road\, Belmont\, NC\, 28012\, United States
CATEGORIES:Academic Calendar,Campus Events,Sports
ATTACH;FMTTYPE=image/jpeg:https://belmontabbeycollege.edu/wp-content/uploads/2024/01/womens-tennis.jpg
END:VEVENT
BEGIN:VEVENT
DTSTART;TZID=America/New_York:20260321T130000
DTEND;TZID=America/New_York:20260321T130000
DTSTAMP:20260420T220753
CREATED:20260202T203758Z
LAST-MODIFIED:20260202T203758Z
UID:10032297-1774098000-1774098000@belmontabbeycollege.edu
SUMMARY:Softball vs King
DESCRIPTION:`Come out and cheer on the Softball team!
URL:https://belmontabbeycollege.edu/event/softball-vs-king-2/
LOCATION:Abbey Yard
CATEGORIES:Academic Calendar,Campus Events,Sports
ATTACH;FMTTYPE=image/jpeg:https://belmontabbeycollege.edu/wp-content/uploads/2024/04/resize.jpg
END:VEVENT
BEGIN:VEVENT
DTSTART;TZID=America/New_York:20260321T120000
DTEND;TZID=America/New_York:20260321T120000
DTSTAMP:20260420T220753
CREATED:20260202T203614Z
LAST-MODIFIED:20260202T203614Z
UID:10032295-1774094400-1774094400@belmontabbeycollege.edu
SUMMARY:Women's Lacrosse vs Ferrum
DESCRIPTION:`Come out and cheer on the Lacrosse team!
URL:https://belmontabbeycollege.edu/event/womens-lacrosse-vs-ferrum/
LOCATION:Alumni Field
CATEGORIES:Academic Calendar,Campus Events,Sports
ATTACH;FMTTYPE=image/jpeg:https://belmontabbeycollege.edu/wp-content/uploads/2024/01/womens-lacrosse.jpg
END:VEVENT
BEGIN:VEVENT
DTSTART;TZID=America/New_York:20260320T130000
DTEND;TZID=America/New_York:20260320T130000
DTSTAMP:20260420T220753
CREATED:20260202T203506Z
LAST-MODIFIED:20260202T203506Z
UID:10032294-1774011600-1774011600@belmontabbeycollege.edu
SUMMARY:Women's Tennis v. Erskine
DESCRIPTION:Come show your support for our women’s tennis team!
URL:https://belmontabbeycollege.edu/event/womens-tennis-v-erskine/
LOCATION:Belmont Abbey College Campus\, 100 Belmont-Mt. Holly Road\, Belmont\, NC\, 28012\, United States
CATEGORIES:Academic Calendar,Campus Events,Sports
ATTACH;FMTTYPE=image/jpeg:https://belmontabbeycollege.edu/wp-content/uploads/2024/01/womens-tennis.jpg
END:VEVENT
END:VCALENDAR