BEGIN:VCALENDAR
VERSION:2.0
PRODID:-//Belmont Abbey College - ECPv6.15.18//NONSGML v1.0//EN
CALSCALE:GREGORIAN
METHOD:PUBLISH
X-WR-CALNAME:Belmont Abbey College
X-ORIGINAL-URL:https://belmontabbeycollege.edu
X-WR-CALDESC:Events for Belmont Abbey College
REFRESH-INTERVAL;VALUE=DURATION:PT1H
X-Robots-Tag:noindex
X-PUBLISHED-TTL:PT1H
BEGIN:VTIMEZONE
TZID:America/New_York
BEGIN:DAYLIGHT
TZOFFSETFROM:-0500
TZOFFSETTO:-0400
TZNAME:EDT
DTSTART:20250309T070000
END:DAYLIGHT
BEGIN:STANDARD
TZOFFSETFROM:-0400
TZOFFSETTO:-0500
TZNAME:EST
DTSTART:20251102T060000
END:STANDARD
BEGIN:DAYLIGHT
TZOFFSETFROM:-0500
TZOFFSETTO:-0400
TZNAME:EDT
DTSTART:20260308T070000
END:DAYLIGHT
BEGIN:STANDARD
TZOFFSETFROM:-0400
TZOFFSETTO:-0500
TZNAME:EST
DTSTART:20261101T060000
END:STANDARD
BEGIN:DAYLIGHT
TZOFFSETFROM:-0500
TZOFFSETTO:-0400
TZNAME:EDT
DTSTART:20270314T070000
END:DAYLIGHT
BEGIN:STANDARD
TZOFFSETFROM:-0400
TZOFFSETTO:-0500
TZNAME:EST
DTSTART:20271107T060000
END:STANDARD
END:VTIMEZONE
BEGIN:VEVENT
DTSTART;TZID=America/New_York:20260425T100000
DTEND;TZID=America/New_York:20260425T105000
DTSTAMP:20260420T081322
CREATED:20230815T140834Z
LAST-MODIFIED:20260415T054749Z
UID:10005673-1777111200-1777114200@belmontabbeycollege.edu
SUMMARY:Basilica Confessions
DESCRIPTION:
URL:https://belmontabbeycollege.edu/event/basilica-confessionals-2-3/2026-04-25/
LOCATION:Belmont Abbey College Campus\, 100 Belmont-Mt. Holly Road\, Belmont\, NC\, 28012\, United States
CATEGORIES:Campus Events,Campus Ministry
ATTACH;FMTTYPE=image/jpeg:https://belmontabbeycollege.edu/wp-content/uploads/2022/09/Confession.jpg
END:VEVENT
BEGIN:VEVENT
DTSTART;TZID=America/New_York:20260426T100000
DTEND;TZID=America/New_York:20260426T105000
DTSTAMP:20260420T081322
CREATED:20230815T140834Z
LAST-MODIFIED:20260415T054749Z
UID:10005674-1777197600-1777200600@belmontabbeycollege.edu
SUMMARY:Basilica Confessions
DESCRIPTION:
URL:https://belmontabbeycollege.edu/event/basilica-confessionals-2-3/2026-04-26/
LOCATION:Belmont Abbey College Campus\, 100 Belmont-Mt. Holly Road\, Belmont\, NC\, 28012\, United States
CATEGORIES:Campus Events,Campus Ministry
ATTACH;FMTTYPE=image/jpeg:https://belmontabbeycollege.edu/wp-content/uploads/2022/09/Confession.jpg
END:VEVENT
BEGIN:VEVENT
DTSTART;TZID=America/New_York:20260502T100000
DTEND;TZID=America/New_York:20260502T105000
DTSTAMP:20260420T081322
CREATED:20230815T140834Z
LAST-MODIFIED:20260415T054749Z
UID:10005675-1777716000-1777719000@belmontabbeycollege.edu
SUMMARY:Basilica Confessions
DESCRIPTION:
URL:https://belmontabbeycollege.edu/event/basilica-confessionals-2-3/2026-05-02/
LOCATION:Belmont Abbey College Campus\, 100 Belmont-Mt. Holly Road\, Belmont\, NC\, 28012\, United States
CATEGORIES:Campus Events,Campus Ministry
ATTACH;FMTTYPE=image/jpeg:https://belmontabbeycollege.edu/wp-content/uploads/2022/09/Confession.jpg
END:VEVENT
BEGIN:VEVENT
DTSTART;TZID=America/New_York:20260503T100000
DTEND;TZID=America/New_York:20260503T105000
DTSTAMP:20260420T081322
CREATED:20230815T140834Z
LAST-MODIFIED:20260415T054749Z
UID:10005676-1777802400-1777805400@belmontabbeycollege.edu
SUMMARY:Basilica Confessions
DESCRIPTION:
URL:https://belmontabbeycollege.edu/event/basilica-confessionals-2-3/2026-05-03/
LOCATION:Belmont Abbey College Campus\, 100 Belmont-Mt. Holly Road\, Belmont\, NC\, 28012\, United States
CATEGORIES:Campus Events,Campus Ministry
ATTACH;FMTTYPE=image/jpeg:https://belmontabbeycollege.edu/wp-content/uploads/2022/09/Confession.jpg
END:VEVENT
BEGIN:VEVENT
DTSTART;TZID=America/New_York:20260509T100000
DTEND;TZID=America/New_York:20260509T105000
DTSTAMP:20260420T081322
CREATED:20230815T140834Z
LAST-MODIFIED:20260415T054749Z
UID:10005677-1778320800-1778323800@belmontabbeycollege.edu
SUMMARY:Basilica Confessions
DESCRIPTION:
URL:https://belmontabbeycollege.edu/event/basilica-confessionals-2-3/2026-05-09/
LOCATION:Belmont Abbey College Campus\, 100 Belmont-Mt. Holly Road\, Belmont\, NC\, 28012\, United States
CATEGORIES:Campus Events,Campus Ministry
ATTACH;FMTTYPE=image/jpeg:https://belmontabbeycollege.edu/wp-content/uploads/2022/09/Confession.jpg
END:VEVENT
BEGIN:VEVENT
DTSTART;TZID=America/New_York:20260510T100000
DTEND;TZID=America/New_York:20260510T105000
DTSTAMP:20260420T081322
CREATED:20230815T140834Z
LAST-MODIFIED:20260415T054749Z
UID:10005678-1778407200-1778410200@belmontabbeycollege.edu
SUMMARY:Basilica Confessions
DESCRIPTION:
URL:https://belmontabbeycollege.edu/event/basilica-confessionals-2-3/2026-05-10/
LOCATION:Belmont Abbey College Campus\, 100 Belmont-Mt. Holly Road\, Belmont\, NC\, 28012\, United States
CATEGORIES:Campus Events,Campus Ministry
ATTACH;FMTTYPE=image/jpeg:https://belmontabbeycollege.edu/wp-content/uploads/2022/09/Confession.jpg
END:VEVENT
BEGIN:VEVENT
DTSTART;TZID=America/New_York:20260516T100000
DTEND;TZID=America/New_York:20260516T105000
DTSTAMP:20260420T081322
CREATED:20230815T140834Z
LAST-MODIFIED:20260415T054749Z
UID:10005679-1778925600-1778928600@belmontabbeycollege.edu
SUMMARY:Basilica Confessions
DESCRIPTION:
URL:https://belmontabbeycollege.edu/event/basilica-confessionals-2-3/2026-05-16/
LOCATION:Belmont Abbey College Campus\, 100 Belmont-Mt. Holly Road\, Belmont\, NC\, 28012\, United States
CATEGORIES:Campus Events,Campus Ministry
ATTACH;FMTTYPE=image/jpeg:https://belmontabbeycollege.edu/wp-content/uploads/2022/09/Confession.jpg
END:VEVENT
BEGIN:VEVENT
DTSTART;TZID=America/New_York:20260517T100000
DTEND;TZID=America/New_York:20260517T105000
DTSTAMP:20260420T081322
CREATED:20230815T140834Z
LAST-MODIFIED:20260415T054749Z
UID:10005680-1779012000-1779015000@belmontabbeycollege.edu
SUMMARY:Basilica Confessions
DESCRIPTION:
URL:https://belmontabbeycollege.edu/event/basilica-confessionals-2-3/2026-05-17/
LOCATION:Belmont Abbey College Campus\, 100 Belmont-Mt. Holly Road\, Belmont\, NC\, 28012\, United States
CATEGORIES:Campus Events,Campus Ministry
ATTACH;FMTTYPE=image/jpeg:https://belmontabbeycollege.edu/wp-content/uploads/2022/09/Confession.jpg
END:VEVENT
BEGIN:VEVENT
DTSTART;TZID=America/New_York:20260523T100000
DTEND;TZID=America/New_York:20260523T105000
DTSTAMP:20260420T081322
CREATED:20230815T140834Z
LAST-MODIFIED:20260415T054749Z
UID:10005681-1779530400-1779533400@belmontabbeycollege.edu
SUMMARY:Basilica Confessions
DESCRIPTION:
URL:https://belmontabbeycollege.edu/event/basilica-confessionals-2-3/2026-05-23/
LOCATION:Belmont Abbey College Campus\, 100 Belmont-Mt. Holly Road\, Belmont\, NC\, 28012\, United States
CATEGORIES:Campus Events,Campus Ministry
ATTACH;FMTTYPE=image/jpeg:https://belmontabbeycollege.edu/wp-content/uploads/2022/09/Confession.jpg
END:VEVENT
BEGIN:VEVENT
DTSTART;TZID=America/New_York:20260524T100000
DTEND;TZID=America/New_York:20260524T105000
DTSTAMP:20260420T081322
CREATED:20230815T140834Z
LAST-MODIFIED:20260415T054749Z
UID:10005682-1779616800-1779619800@belmontabbeycollege.edu
SUMMARY:Basilica Confessions
DESCRIPTION:
URL:https://belmontabbeycollege.edu/event/basilica-confessionals-2-3/2026-05-24/
LOCATION:Belmont Abbey College Campus\, 100 Belmont-Mt. Holly Road\, Belmont\, NC\, 28012\, United States
CATEGORIES:Campus Events,Campus Ministry
ATTACH;FMTTYPE=image/jpeg:https://belmontabbeycollege.edu/wp-content/uploads/2022/09/Confession.jpg
END:VEVENT
BEGIN:VEVENT
DTSTART;TZID=America/New_York:20260530T100000
DTEND;TZID=America/New_York:20260530T105000
DTSTAMP:20260420T081322
CREATED:20230815T140834Z
LAST-MODIFIED:20260415T054749Z
UID:10005683-1780135200-1780138200@belmontabbeycollege.edu
SUMMARY:Basilica Confessions
DESCRIPTION:
URL:https://belmontabbeycollege.edu/event/basilica-confessionals-2-3/2026-05-30/
LOCATION:Belmont Abbey College Campus\, 100 Belmont-Mt. Holly Road\, Belmont\, NC\, 28012\, United States
CATEGORIES:Campus Events,Campus Ministry
ATTACH;FMTTYPE=image/jpeg:https://belmontabbeycollege.edu/wp-content/uploads/2022/09/Confession.jpg
END:VEVENT
BEGIN:VEVENT
DTSTART;TZID=America/New_York:20260531T100000
DTEND;TZID=America/New_York:20260531T105000
DTSTAMP:20260420T081322
CREATED:20230815T140834Z
LAST-MODIFIED:20260415T054749Z
UID:10005684-1780221600-1780224600@belmontabbeycollege.edu
SUMMARY:Basilica Confessions
DESCRIPTION:
URL:https://belmontabbeycollege.edu/event/basilica-confessionals-2-3/2026-05-31/
LOCATION:Belmont Abbey College Campus\, 100 Belmont-Mt. Holly Road\, Belmont\, NC\, 28012\, United States
CATEGORIES:Campus Events,Campus Ministry
ATTACH;FMTTYPE=image/jpeg:https://belmontabbeycollege.edu/wp-content/uploads/2022/09/Confession.jpg
END:VEVENT
BEGIN:VEVENT
DTSTART;TZID=America/New_York:20260606T100000
DTEND;TZID=America/New_York:20260606T105000
DTSTAMP:20260420T081322
CREATED:20230815T140834Z
LAST-MODIFIED:20260415T054749Z
UID:10005685-1780740000-1780743000@belmontabbeycollege.edu
SUMMARY:Basilica Confessions
DESCRIPTION:
URL:https://belmontabbeycollege.edu/event/basilica-confessionals-2-3/2026-06-06/
LOCATION:Belmont Abbey College Campus\, 100 Belmont-Mt. Holly Road\, Belmont\, NC\, 28012\, United States
CATEGORIES:Campus Events,Campus Ministry
ATTACH;FMTTYPE=image/jpeg:https://belmontabbeycollege.edu/wp-content/uploads/2022/09/Confession.jpg
END:VEVENT
BEGIN:VEVENT
DTSTART;TZID=America/New_York:20260607T100000
DTEND;TZID=America/New_York:20260607T105000
DTSTAMP:20260420T081322
CREATED:20230815T140834Z
LAST-MODIFIED:20260415T054749Z
UID:10005686-1780826400-1780829400@belmontabbeycollege.edu
SUMMARY:Basilica Confessions
DESCRIPTION:
URL:https://belmontabbeycollege.edu/event/basilica-confessionals-2-3/2026-06-07/
LOCATION:Belmont Abbey College Campus\, 100 Belmont-Mt. Holly Road\, Belmont\, NC\, 28012\, United States
CATEGORIES:Campus Events,Campus Ministry
ATTACH;FMTTYPE=image/jpeg:https://belmontabbeycollege.edu/wp-content/uploads/2022/09/Confession.jpg
END:VEVENT
BEGIN:VEVENT
DTSTART;TZID=America/New_York:20260613T100000
DTEND;TZID=America/New_York:20260613T105000
DTSTAMP:20260420T081322
CREATED:20230815T140834Z
LAST-MODIFIED:20260415T054749Z
UID:10005687-1781344800-1781347800@belmontabbeycollege.edu
SUMMARY:Basilica Confessions
DESCRIPTION:
URL:https://belmontabbeycollege.edu/event/basilica-confessionals-2-3/2026-06-13/
LOCATION:Belmont Abbey College Campus\, 100 Belmont-Mt. Holly Road\, Belmont\, NC\, 28012\, United States
CATEGORIES:Campus Events,Campus Ministry
ATTACH;FMTTYPE=image/jpeg:https://belmontabbeycollege.edu/wp-content/uploads/2022/09/Confession.jpg
END:VEVENT
BEGIN:VEVENT
DTSTART;TZID=America/New_York:20260614T100000
DTEND;TZID=America/New_York:20260614T105000
DTSTAMP:20260420T081322
CREATED:20230815T140834Z
LAST-MODIFIED:20260415T054749Z
UID:10005688-1781431200-1781434200@belmontabbeycollege.edu
SUMMARY:Basilica Confessions
DESCRIPTION:
URL:https://belmontabbeycollege.edu/event/basilica-confessionals-2-3/2026-06-14/
LOCATION:Belmont Abbey College Campus\, 100 Belmont-Mt. Holly Road\, Belmont\, NC\, 28012\, United States
CATEGORIES:Campus Events,Campus Ministry
ATTACH;FMTTYPE=image/jpeg:https://belmontabbeycollege.edu/wp-content/uploads/2022/09/Confession.jpg
END:VEVENT
BEGIN:VEVENT
DTSTART;TZID=America/New_York:20260620T100000
DTEND;TZID=America/New_York:20260620T105000
DTSTAMP:20260420T081322
CREATED:20230815T140834Z
LAST-MODIFIED:20260415T054749Z
UID:10005689-1781949600-1781952600@belmontabbeycollege.edu
SUMMARY:Basilica Confessions
DESCRIPTION:
URL:https://belmontabbeycollege.edu/event/basilica-confessionals-2-3/2026-06-20/
LOCATION:Belmont Abbey College Campus\, 100 Belmont-Mt. Holly Road\, Belmont\, NC\, 28012\, United States
CATEGORIES:Campus Events,Campus Ministry
ATTACH;FMTTYPE=image/jpeg:https://belmontabbeycollege.edu/wp-content/uploads/2022/09/Confession.jpg
END:VEVENT
BEGIN:VEVENT
DTSTART;TZID=America/New_York:20260621T100000
DTEND;TZID=America/New_York:20260621T105000
DTSTAMP:20260420T081322
CREATED:20230815T140834Z
LAST-MODIFIED:20260415T054749Z
UID:10005690-1782036000-1782039000@belmontabbeycollege.edu
SUMMARY:Basilica Confessions
DESCRIPTION:
URL:https://belmontabbeycollege.edu/event/basilica-confessionals-2-3/2026-06-21/
LOCATION:Belmont Abbey College Campus\, 100 Belmont-Mt. Holly Road\, Belmont\, NC\, 28012\, United States
CATEGORIES:Campus Events,Campus Ministry
ATTACH;FMTTYPE=image/jpeg:https://belmontabbeycollege.edu/wp-content/uploads/2022/09/Confession.jpg
END:VEVENT
BEGIN:VEVENT
DTSTART;TZID=America/New_York:20260627T100000
DTEND;TZID=America/New_York:20260627T105000
DTSTAMP:20260420T081322
CREATED:20230815T140834Z
LAST-MODIFIED:20260415T054749Z
UID:10005691-1782554400-1782557400@belmontabbeycollege.edu
SUMMARY:Basilica Confessions
DESCRIPTION:
URL:https://belmontabbeycollege.edu/event/basilica-confessionals-2-3/2026-06-27/
LOCATION:Belmont Abbey College Campus\, 100 Belmont-Mt. Holly Road\, Belmont\, NC\, 28012\, United States
CATEGORIES:Campus Events,Campus Ministry
ATTACH;FMTTYPE=image/jpeg:https://belmontabbeycollege.edu/wp-content/uploads/2022/09/Confession.jpg
END:VEVENT
BEGIN:VEVENT
DTSTART;TZID=America/New_York:20260628T100000
DTEND;TZID=America/New_York:20260628T105000
DTSTAMP:20260420T081322
CREATED:20230815T140834Z
LAST-MODIFIED:20260415T054749Z
UID:10005692-1782640800-1782643800@belmontabbeycollege.edu
SUMMARY:Basilica Confessions
DESCRIPTION:
URL:https://belmontabbeycollege.edu/event/basilica-confessionals-2-3/2026-06-28/
LOCATION:Belmont Abbey College Campus\, 100 Belmont-Mt. Holly Road\, Belmont\, NC\, 28012\, United States
CATEGORIES:Campus Events,Campus Ministry
ATTACH;FMTTYPE=image/jpeg:https://belmontabbeycollege.edu/wp-content/uploads/2022/09/Confession.jpg
END:VEVENT
END:VCALENDAR